BEGIN:VCALENDAR
VERSION:2.0
PRODID:-//Octubre Centre de Cultura Contemporània - ECPv5.1.6//NONSGML v1.0//EN
CALSCALE:GREGORIAN
METHOD:PUBLISH
X-WR-CALNAME:Octubre Centre de Cultura Contemporània
X-ORIGINAL-URL:https://octubre.cat
X-WR-CALDESC:Events for Octubre Centre de Cultura Contemporània
BEGIN:VTIMEZONE
TZID:Europe/Andorra
BEGIN:DAYLIGHT
TZOFFSETFROM:+0100
TZOFFSETTO:+0200
TZNAME:CEST
DTSTART:20220327T010000
END:DAYLIGHT
BEGIN:STANDARD
TZOFFSETFROM:+0200
TZOFFSETTO:+0100
TZNAME:CET
DTSTART:20221030T010000
END:STANDARD
END:VTIMEZONE
BEGIN:VEVENT
DTSTART;TZID=Europe/Andorra:20220326T000000
DTEND;TZID=Europe/Andorra:20220423T000000
DTSTAMP:20260420T164100
CREATED:20220328T075839Z
LAST-MODIFIED:20250624T093718Z
UID:18037-1648252800-1650672000@octubre.cat
SUMMARY:L’Espiral del Sud 2022. Instal·lacions
DESCRIPTION:Obres de: \n–Najib Cherradi\n–Emilio Gallego\n–Bibiana Martínez\n–Enfero Carulo\n–Empar Boix\n–Fanny Galera \n  \n \n  \nAquestes instal·lacions formen part de les II Trobades Transculturals d’Artistes organitzades pel col·lectiu La Espiral ACC amb la col·laboració de l’Octubre CCC.
URL:https://octubre.cat/activitat/lespiral-del-sud-2022-installacions/
LOCATION:Hall
CATEGORIES:Instal·lacions
ATTACH;FMTTYPE=image/jpeg:https://octubre.cat/www/wp-content/uploads/2022/03/Espiral_Sud_2022_aaa.jpg
END:VEVENT
BEGIN:VEVENT
DTSTART;TZID=Europe/Andorra:20220420T190000
DTEND;TZID=Europe/Andorra:20220420T190000
DTSTAMP:20260420T164101
CREATED:20220314T162859Z
LAST-MODIFIED:20250629T103106Z
UID:17991-1650481200-1650481200@octubre.cat
SUMMARY:Presentació del núm. 67 de la revista L'Espill
DESCRIPTION:Presentació del número 67: “Joan Fuster\, cent anys (1922-2022)” \nA càrrec de:\n—Gustau Muñoz\, codirector de la revista L’Espill\n—Martí Domínguez\, escriptor i director de la revista Mètode\n—Pau Viciano\, doctor en Història Medieval per la Universitat de València \nTextos de Xavier Pla\, Antoni Furió\, Gustau Muñoz\, Joan Ramon Resina\, Toni Mollà\, Enric Iborra\, Francesc Viadel\, Salvador Vendrell\, Teresa Muñoz Lloret\, Ernest Belenguer\, Ferran Archilés\, Pau Viciano\, Antoni Rico\, Josep L. Gómez Mompart\, Jan Brugueras\, Joan F. Mira\, Martí Domínguez\, Juli Capilla\, Josep Ballester\, etc. \n  \n \n(Publicacions de la Universitat de València)
URL:https://octubre.cat/activitat/presentacio-del-num-67-de-la-revista-lespill/
LOCATION:Llibreria Fan Set
CATEGORIES:Any Joan Fuster 2022,Literatura
ATTACH;FMTTYPE=image/jpeg:https://octubre.cat/www/wp-content/uploads/2022/02/fuster_j_0152.jpg
END:VEVENT
BEGIN:VEVENT
DTSTART;TZID=Europe/Andorra:20220420T190000
DTEND;TZID=Europe/Andorra:20220420T190000
DTSTAMP:20260420T164101
CREATED:20220411T151140Z
LAST-MODIFIED:20220411T151140Z
UID:18102-1650481200-1650481200@octubre.cat
SUMMARY:Estrena del documental Estar o no estar\, d’Alberto Adsuara
DESCRIPTION:Pel·lícula documental que analitza La finestra indiscreta i Els ocells de Hitchcock. \nGuió i direcció: Alberto Adsuara (2022)\nOperador i edició: Samuel Navarro\nMúsica: Victoria Contreras Flores\nSo: Jacobo Vallier \n 
URL:https://octubre.cat/activitat/estrena-del-documental-estar-o-no-estar-dalberto-adsuara/
LOCATION:Sala d’actes
CATEGORIES:Cinema
ATTACH;FMTTYPE=image/jpeg:https://octubre.cat/www/wp-content/uploads/2022/04/estar-o-no-estar-adsuara.jpg
END:VEVENT
END:VCALENDAR