BEGIN:VCALENDAR
VERSION:2.0
PRODID:-//Octubre Centre de Cultura Contemporània - ECPv5.1.6//NONSGML v1.0//EN
CALSCALE:GREGORIAN
METHOD:PUBLISH
X-WR-CALNAME:Octubre Centre de Cultura Contemporània
X-ORIGINAL-URL:https://octubre.cat
X-WR-CALDESC:Events for Octubre Centre de Cultura Contemporània
BEGIN:VTIMEZONE
TZID:Europe/Andorra
BEGIN:DAYLIGHT
TZOFFSETFROM:+0100
TZOFFSETTO:+0200
TZNAME:CEST
DTSTART:20220327T010000
END:DAYLIGHT
BEGIN:STANDARD
TZOFFSETFROM:+0200
TZOFFSETTO:+0100
TZNAME:CET
DTSTART:20221030T010000
END:STANDARD
END:VTIMEZONE
BEGIN:VEVENT
DTSTART;TZID=Europe/Andorra:20220304T190000
DTEND;TZID=Europe/Andorra:20220414T210000
DTSTAMP:20260420T163950
CREATED:20220220T163525Z
LAST-MODIFIED:20250620T080630Z
UID:17872-1646420400-1649970000@octubre.cat
SUMMARY:L’Índia velada\, de Joaquim Seguí
DESCRIPTION:L’Índia velada és un petit tribut a la dona índia. Les fotos seleccionades són preferentment de dones\, quasi sempre amb vel\, en un país teòricament laic però amb l’omnipresència constant de la religió\, majoritàriament la hindú i seguida d’altres com la musulmana i en menor proporció sikh i altres de minoritàries. En totes elles\, en comú\, la dona queda en segon pla i sempre socialment discriminada. \n  \n\n \n  \nEl llibre que acompanya l’exposició inclou una nodrida col·laboració d’autores en castellà de l’Asociación Genialogías de dones poetes\, al costat d’altres poetes en llengua catalana\, amb especial esment a les versions en català de Maria Josep Escrivà i de Josep Vicent Cabrera de l’afganesa Nadià Anjoman assassinada pel seu marit als 25 anys\, així com la de Bina Sarkar\, des de Bombai i en anglès. Això ha permès una bella selecció que finalment s’ha conformat com un poemari de 26 dones poetes que han escrit o han seleccionat els seus versos i textos poètics per a aquest llibre. També s’ha inclòs un bellíssim poema cedit per Antonio Colinas. Els textos de Rocío Moriones\, Carme Riera\, Fanny Tur i Agustí Villaronga ens introdueixen les seves especials aproximacions literàries i visuals a L’Índia velada. \n  \n \n—\nAmb la col·laboració de Fundació Baleària i Balàfia Postals.
URL:https://octubre.cat/activitat/lindia-velada-de-joaquim-segui/
LOCATION:Sala d’exposicions
CATEGORIES:Exposicions
ATTACH;FMTTYPE=image/jpeg:https://octubre.cat/www/wp-content/uploads/2022/02/93-Kaman-Rajasta╠un-2017-India-velada-p.172-173-scaled.jpg
END:VEVENT
BEGIN:VEVENT
DTSTART;TZID=Europe/Andorra:20220326T000000
DTEND;TZID=Europe/Andorra:20220423T000000
DTSTAMP:20260420T163950
CREATED:20220328T075839Z
LAST-MODIFIED:20250624T093718Z
UID:18037-1648252800-1650672000@octubre.cat
SUMMARY:L’Espiral del Sud 2022. Instal·lacions
DESCRIPTION:Obres de: \n–Najib Cherradi\n–Emilio Gallego\n–Bibiana Martínez\n–Enfero Carulo\n–Empar Boix\n–Fanny Galera \n  \n \n  \nAquestes instal·lacions formen part de les II Trobades Transculturals d’Artistes organitzades pel col·lectiu La Espiral ACC amb la col·laboració de l’Octubre CCC.
URL:https://octubre.cat/activitat/lespiral-del-sud-2022-installacions/
LOCATION:Hall
CATEGORIES:Instal·lacions
ATTACH;FMTTYPE=image/jpeg:https://octubre.cat/www/wp-content/uploads/2022/03/Espiral_Sud_2022_aaa.jpg
END:VEVENT
BEGIN:VEVENT
DTSTART;TZID=Europe/Andorra:20220406T160000
DTEND;TZID=Europe/Andorra:20220406T160000
DTSTAMP:20260420T163950
CREATED:20220330T145412Z
LAST-MODIFIED:20220330T150145Z
UID:18058-1649260800-1649260800@octubre.cat
SUMMARY:Conferència-col·loqui: «Conseqüències psicològiques i socials de la pandèmia : què n’hem après en aquests dos anys?»\, per Marta Miragall
DESCRIPTION:Marta Miragall és Professora Ajudant Doctora en el departament de Personalitat\, Avaluació i Tractaments Psicològics (UV). Membre del grup d’investigació LABPSITEC-València des de l’any 2012. A més\, és membre investigador del grup CIBEROBN “Fisiopatologia de l’Obesitat i la Nutrició” (Institut de Salut Carles III). \nLa seua línia d’investigació s’emmarca dins de la psicopatologia experimental i en l’estudi dels processos emocionals i cognitius en els problemes psicològics\, promoció d’estils de vida saludable\, i avaluació i tractament a través de les Tecnologies de la Informació i la Comunicació. \n  \n \n—\nOrganitzen:\n–Societat Valenciana de Psicologia\n–Facultat de Psicologia de la UV\n–Societat Valenciana de Ciències de la Salut «Joan B. Peset»\nAmb la col·laboració d’Acció Cultural del País Valencià
URL:https://octubre.cat/activitat/conferencia-colloqui-consequencies-psicologiques-i-socials-de-la-pandemia-que-nhem-apres-en-aquests-dos-anys-per-marta-miragall/
LOCATION:Activitat externa
CATEGORIES:Activitats externes
ATTACH;FMTTYPE=image/jpeg:https://octubre.cat/www/wp-content/uploads/2022/02/adolescents-covid.jpg
END:VEVENT
BEGIN:VEVENT
DTSTART;TZID=Europe/Andorra:20220406T180000
DTEND;TZID=Europe/Andorra:20220406T180000
DTSTAMP:20260420T163950
CREATED:20220314T170809Z
LAST-MODIFIED:20250629T095940Z
UID:17998-1649268000-1649268000@octubre.cat
SUMMARY:Cinema: Rock per mil\, d’Anita Rivaroli
DESCRIPTION:Després de la projecció hi haurà un col·loqui amb Rafa Xambó\, Andrés Valero-Castells\, Armand Llàcer i Roser Pérez Mateo.\n— \nFabio vol convèncer la seva banda de rock preferida\, els Foo Fighters\, perquè actuïn a Cesena\, el seu petit poble natal situat al nord d’Itàlia. Per aconseguir-ho\, es proposa una fita gairebé inassolible: reunir mil músics per tocar junts i en sincronia la seva cançó Learn to fly. Serà capaç d’aconseguir-ho? La missió sembla impossible. Com aconseguirà els diners? Trobarà tants músics? Una crida al Youtube serà l’inici de la increïble aventura dels Rockin’1000\, la banda de rock més gran que ha existit mai. Rock per mil és la és la història de Fabio\, però també de tota una comunitat que influeix positivament en cadascun dels seus membres\, animant-los a perseguir els seus somnis mentre donen el millor d’ells mateixos. Un documental divertit en el qual Anita Rivaroli ens ofereix una emotiva i emocionant injecció de rock. \n  \n \n  \nTítol original: We are the thousand\nDirecció: Anita Rivaroli\nProducció Executiva: Francesca Portalupi\nSo: Antonio Giannantonio\nProducció: Indyca\nCoproducció: Rockin’1000\, New Lanark Film & Music\nMúsic: Giorgio Giampà\nProductor: Simone Catania\nEdició: Roberto Di Tanna\nProductor Creatiu: Michele Fornasero\nDirecció de fotografia: Pasquale Remia\nItàlia (2020)\nVersió original en italià amb subtítols en català\nDurada: 78’ \n  \n \nCicle “Acció Documental +” organitzat per ACICOM i ACPV. DocsBarcelona / El documental del mes.
URL:https://octubre.cat/activitat/cinema-rock-per-mil-danita-rivaroli/
LOCATION:Sala d’actes
CATEGORIES:Acció Documental +
ATTACH;FMTTYPE=image/jpeg:https://octubre.cat/www/wp-content/uploads/2022/03/wearethethousand4.jpg
END:VEVENT
BEGIN:VEVENT
DTSTART;TZID=Europe/Andorra:20220406T190000
DTEND;TZID=Europe/Andorra:20220406T190000
DTSTAMP:20260420T163950
CREATED:20220222T183615Z
LAST-MODIFIED:20250625T092037Z
UID:17914-1649271600-1649271600@octubre.cat
SUMMARY:Presentació del llibre La inquietud\, de Lourdes Toledo
DESCRIPTION:Dietari 2018-2019 \nAmb l’autora acompanyada per Martí Domínguez. \nEscriure un dietari ens permet retratar un moment vital\, però també capbussar-nos en la memòria\, en “l’eco que continua reverberant quan el so ja s’ha perdut”. Si el so es perd en la distància\, la memòria l’amplia i el modifica. En aquesta ocasió el so és el retorn: tornar a casa després d’anys d’absències i trobar-hi novament les peces per a reconstruir allò que hi vam deixar. No som els mateixos\, la ciutat i els amics han canviat\, jo també. Hi ha rostres del passat que a poc a poc recupere\, llocs\, paisatges\, vivències\, tot un mosaic de composició complexa al qual se li han remogut moltes tessel·les. Cal anar ajustant-les amb paciència i comprensió. La inquietud\, paraula que dona títol al llibre\, vol dir desassossec o neguit\, incertesa\, però també curiositat\, deler de conèixer\, guspira de viure. \n  \n \n(Pagès Editor)\n[foto Jesús Ciscar]
URL:https://octubre.cat/activitat/presentacio-del-llibre-la-inquietud-de-lourdes-toledo/
LOCATION:Llibreria Fan Set
CATEGORIES:Literatura
ATTACH;FMTTYPE=image/jpeg:https://octubre.cat/www/wp-content/uploads/2022/02/lourdes-toledo.-jesus-ciscar.jpg
END:VEVENT
END:VCALENDAR