BEGIN:VCALENDAR
VERSION:2.0
PRODID:-//Octubre Centre de Cultura Contemporània - ECPv5.1.6//NONSGML v1.0//EN
CALSCALE:GREGORIAN
METHOD:PUBLISH
X-WR-CALNAME:Octubre Centre de Cultura Contemporània
X-ORIGINAL-URL:https://octubre.cat
X-WR-CALDESC:Events for Octubre Centre de Cultura Contemporània
BEGIN:VTIMEZONE
TZID:Europe/Andorra
BEGIN:DAYLIGHT
TZOFFSETFROM:+0100
TZOFFSETTO:+0200
TZNAME:CEST
DTSTART:20220327T010000
END:DAYLIGHT
BEGIN:STANDARD
TZOFFSETFROM:+0200
TZOFFSETTO:+0100
TZNAME:CET
DTSTART:20221030T010000
END:STANDARD
END:VTIMEZONE
BEGIN:VEVENT
DTSTART;TZID=Europe/Andorra:20220303T190000
DTEND;TZID=Europe/Andorra:20220303T190000
DTSTAMP:20260420T140455
CREATED:20220220T184642Z
LAST-MODIFIED:20220225T152637Z
UID:17886-1646334000-1646334000@octubre.cat
SUMMARY:Conferència “Adolescència\, COVID i salut: reflexions per a entendre un col·lapse”\, per Fernando Dualde
DESCRIPTION:Fernando Dualde Beltrán és doctor en Medicina i Cirurgia\, psiquiatre i psicoterapeuta. Treballa des de fa més de 15 anys amb nens i adolescents en el context de la consulta privada\, encara que va iniciar la seua experiència a la sanitat pública.\nHabitualment duu a terme labors de diagnòstic i tractament farmacològic\, psicoteràpia individual i\, sobretot\, psicoteràpia parental\, temes sobre els quals ha publicat alguns articles.\nTambé és professor associat de la Unitat Docent de Psiquiatria i Psicologia Mèdica del departament de Medicina de la Universitat de València. \n  \n \n—\nConferència organitzada per la La Societat Valenciana de Ciències de la Salut “Joan Baptista Peset” amb la col·laboració de la Societat Valenciana de Psicologia.
URL:https://octubre.cat/activitat/conferencia-adolescencia-covid-i-salut-reflexions-per-a-entendre-un-collapse-per-fernando-dualde/
LOCATION:Sala d’actes
CATEGORIES:Conferències i congressos
ATTACH;FMTTYPE=image/jpeg:https://octubre.cat/www/wp-content/uploads/2022/02/adolescents-covid.jpg
END:VEVENT
END:VCALENDAR