BEGIN:VCALENDAR
VERSION:2.0
PRODID:-//Octubre Centre de Cultura Contemporània - ECPv5.1.6//NONSGML v1.0//EN
CALSCALE:GREGORIAN
METHOD:PUBLISH
X-WR-CALNAME:Octubre Centre de Cultura Contemporània
X-ORIGINAL-URL:https://octubre.cat
X-WR-CALDESC:Events for Octubre Centre de Cultura Contemporània
BEGIN:VTIMEZONE
TZID:Europe/Andorra
BEGIN:DAYLIGHT
TZOFFSETFROM:+0100
TZOFFSETTO:+0200
TZNAME:CEST
DTSTART:20220327T010000
END:DAYLIGHT
BEGIN:STANDARD
TZOFFSETFROM:+0200
TZOFFSETTO:+0100
TZNAME:CET
DTSTART:20221030T010000
END:STANDARD
END:VTIMEZONE
BEGIN:VEVENT
DTSTART;TZID=Europe/Andorra:20220302T190000
DTEND;TZID=Europe/Andorra:20220302T190000
DTSTAMP:20260420T140623
CREATED:20220216T174343Z
LAST-MODIFIED:20250629T102957Z
UID:17865-1646247600-1646247600@octubre.cat
SUMMARY:Conferència «Joan Fuster\, amb perspectiva científica»\, per Isidre Crespo
DESCRIPTION:Conferència a càrrec d’Isidre Crespo\, professor de català i estudiós de Joan Fuster. \n«L’herència ideològica de l’humanista valencià és un missatge de mesurada esperança: el dret de somniar un futur millor\, la utopia del confort solidari… la utopia de la ciència.» (Joan Borja\, La utopia de la ciència (2014). \n  \n \nSi els assistents a l’acte ho troben oportú\, recomanem que porten algun d’aquests llibres de Joan Fuster:\n\n– Diari 1952-1960\n– Diccionari per a ociosos\n– Examen de consciència\n– L’home\, mesura de totes les coses\n– Causar-se d’esperar\n– Babels i babilònies\n– Sagitari\n– Discordances\n– Més discordances\n– La utopia de la ciència (Joan Borja) \n—\n2022 – Any Joan Fuster
URL:https://octubre.cat/activitat/conferencia-joan-fuster-amb-perspectiva-cientifica-per-isidre-crespo/
LOCATION:Aula 1
CATEGORIES:Any Joan Fuster 2022,Espai Ciència
ATTACH;FMTTYPE=image/jpeg:https://octubre.cat/www/wp-content/uploads/2022/02/fuster_j_0152.jpg
END:VEVENT
END:VCALENDAR