BEGIN:VCALENDAR
VERSION:2.0
PRODID:-//Octubre Centre de Cultura Contemporània - ECPv5.1.6//NONSGML v1.0//EN
CALSCALE:GREGORIAN
METHOD:PUBLISH
X-WR-CALNAME:Octubre Centre de Cultura Contemporània
X-ORIGINAL-URL:https://octubre.cat
X-WR-CALDESC:Events for Octubre Centre de Cultura Contemporània
BEGIN:VTIMEZONE
TZID:Europe/Andorra
BEGIN:DAYLIGHT
TZOFFSETFROM:+0100
TZOFFSETTO:+0200
TZNAME:CEST
DTSTART:20220327T010000
END:DAYLIGHT
BEGIN:STANDARD
TZOFFSETFROM:+0200
TZOFFSETTO:+0100
TZNAME:CET
DTSTART:20221030T010000
END:STANDARD
END:VTIMEZONE
BEGIN:VEVENT
DTSTART;TZID=Europe/Andorra:20220301T190000
DTEND;TZID=Europe/Andorra:20220301T190000
DTSTAMP:20260420T151857
CREATED:20220215T163918Z
LAST-MODIFIED:20220215T163918Z
UID:17837-1646161200-1646161200@octubre.cat
SUMMARY:Novocine: O Brasileiro\, de Lucia Barata
DESCRIPTION:Documental que explica la trajectòria del ballarí de saló\, coreògraf\, actor i cantant Carlinhos de Jesus. Nascut en un suburbi de Rio de Janeiro\, va arribar a la fama perseguint els seus somnis de nen i ballant sobre cada obstacle que es va trobar en el camí. Carlinhos és avui un artista famós a l’àmbit del Carnaval brasiler. \nDirecció i guió: Lucia Barata\nFotografia: Marcelo Borja\, Christian Gyllensvaerd\nProducció executiva: Lucia Barata\nRepartiment: Felipe Fortini Franco\, Luiza Fortini Franco\, Fernanda Huffel\, Alcione\nBrasi (2018)\nDurada: 67’ \nPremis i Festivals\n-MIFF Madrid International Film Festival (2018)\n-Awareness International Film Festival – Los Angeles\n-Festival ISENMA Bali\n-COMMFFEST Top Prize Madfa (Toronto)\n-RIFF 2019 Rajasthan International Film Festival \n  \n \n—\nNovocine – Mostra de Cinema Brasiler\, un cicle promogut per l’ambaixada de Brasil a Madrid i pel consolat de Brasil a València amb la col·laboració de l’Octubre CCC
URL:https://octubre.cat/activitat/novocine-o-brasileiro-de-lucia-barata/
LOCATION:Sala d’actes
CATEGORIES:Novocine - Mostra de Cinema Brasiler
ATTACH;FMTTYPE=image/jpeg:https://octubre.cat/www/wp-content/uploads/2022/02/20Brasilerio-scaled.jpg
END:VEVENT
END:VCALENDAR