BEGIN:VCALENDAR
VERSION:2.0
PRODID:-//Octubre Centre de Cultura Contemporània - ECPv5.1.6//NONSGML v1.0//EN
CALSCALE:GREGORIAN
METHOD:PUBLISH
X-WR-CALNAME:Octubre Centre de Cultura Contemporània
X-ORIGINAL-URL:https://octubre.cat
X-WR-CALDESC:Events for Octubre Centre de Cultura Contemporània
BEGIN:VTIMEZONE
TZID:Europe/Andorra
BEGIN:DAYLIGHT
TZOFFSETFROM:+0100
TZOFFSETTO:+0200
TZNAME:CEST
DTSTART:20220327T010000
END:DAYLIGHT
BEGIN:STANDARD
TZOFFSETFROM:+0200
TZOFFSETTO:+0100
TZNAME:CET
DTSTART:20221030T010000
END:STANDARD
END:VTIMEZONE
BEGIN:VEVENT
DTSTART;TZID=Europe/Andorra:20220222T190000
DTEND;TZID=Europe/Andorra:20220222T190000
DTSTAMP:20260420T140317
CREATED:20211220T105944Z
LAST-MODIFIED:20211220T105944Z
UID:17546-1645556400-1645556400@octubre.cat
SUMMARY:Presentació del llibre Saliva\, de Leire Bilbao
DESCRIPTION:Amb l’autora acompanyada per Jaume Subirana (traductor) i Maria Josep Escrivà (editora) \nLeire Bilbao Barruetabeña (Ondarroa\, 1978)\, és una escriptora i bertsolari basca. És llicenciada en Economia per la Universitat de Deusto. Ha col·laborat en diversos mitjans de comunicació com Euskadi Irratia\, Deia i Berria. El 2017\, va ser guardonada amb el Premi Euskadi de literatura infantil i juvenil pel seu llibre de poesia Xomorropoemak eta beste piztia batzuk. \n(Edicions 96)
URL:https://octubre.cat/activitat/presentacio-del-llibre-saliva-de-leire-bilbao/
LOCATION:Llibreria Fan Set
CATEGORIES:Literatura
ATTACH;FMTTYPE=image/jpeg:https://octubre.cat/www/wp-content/uploads/2021/12/Leire_Bilbao_Aitor_Unamuno-scaled.jpg
END:VEVENT
BEGIN:VEVENT
DTSTART;TZID=Europe/Andorra:20220222T190000
DTEND;TZID=Europe/Andorra:20220222T190000
DTSTAMP:20260420T140317
CREATED:20220214T102559Z
LAST-MODIFIED:20220214T104344Z
UID:17828-1645556400-1645556400@octubre.cat
SUMMARY:Novocine: A vida invisível de Eurídice Gusmão\, de Karim Aïnouz
DESCRIPTION:Inauguració de Novocine 2022 – Mostra de Cinema Brasiler a càrrec de Vicente Soriano\, cònsul de Brasil a València \nRio de Janeiro\, 1950. Eurídice i Guida són dues germanes inseparables que viuen a casa amb els seus conservadors pares. Encara immerses en una vida tradicional\, cadascuna alimenta un somni: Eurídice el de convertir-se en una pianista de renom\, Guida el de trobar l’amor veritable. En un gir dramàtic\, són separades pel seu pare i obligades a viure a llocs diferents. Hauran de prendre així el control de les pròpies destinacions\, sense perdre l’esperança de tornar a trobar-se. \nDirecció: Karim Aïnouz\nGuió: Murilo Hauser\nFotografia: Hélêne Louvart\nProducció: Rodrigo Teixeira\, Michael Weber i Viola Fügen\nRepartiment: Carol Duarte\, Julia Stockler\, Gregorio Duvivier\, Bárbara Santos\nBrasil / Alemanya\, 2019\nDurada: 139’ \nPremis\n-Candidata Brasilera – OSCARS 2020\n-Premi Un Certain Régard – FESTIVAL DE CANNES 2019\n-Espiga de Plata: SEMINCI 2019\n-Millor Actriu: Julia Stockler\, Carol Duarte: SEMINCI 2019\n-Premi FIPRESCI: SEMINCI 2019\n-Premi del Públic: FESTIVAL MAR DE PLATA 2019\n-Nominada a Millor Pel·lícula Estrangera: INDEPENDENT SPIRIT 2019 \n  \n \n—\nNovocine – Mostra de Cinema Brasiler\, un cicle promogut per l’ambaixada de Brasil a Madrid i pel consolat de Brasil a València amb la col·laboració de l’Octubre CCC
URL:https://octubre.cat/activitat/novocine-a-vida-invisivel-de-euridice-gusmao-de-karim-ainouz/
LOCATION:Sala d’actes
CATEGORIES:Novocine - Mostra de Cinema Brasiler
ATTACH;FMTTYPE=image/jpeg:https://octubre.cat/www/wp-content/uploads/2022/02/01_THE_INVISIBLE_LIFE_OF_EURIDICE_GUSMAO_©Bruno-Machado-scaled.jpg
END:VEVENT
END:VCALENDAR