BEGIN:VCALENDAR
VERSION:2.0
PRODID:-//Octubre Centre de Cultura Contemporània - ECPv5.1.6//NONSGML v1.0//EN
CALSCALE:GREGORIAN
METHOD:PUBLISH
X-WR-CALNAME:Octubre Centre de Cultura Contemporània
X-ORIGINAL-URL:https://octubre.cat
X-WR-CALDESC:Events for Octubre Centre de Cultura Contemporània
BEGIN:VTIMEZONE
TZID:Europe/Andorra
BEGIN:DAYLIGHT
TZOFFSETFROM:+0100
TZOFFSETTO:+0200
TZNAME:CEST
DTSTART:20220327T010000
END:DAYLIGHT
BEGIN:STANDARD
TZOFFSETFROM:+0200
TZOFFSETTO:+0100
TZNAME:CET
DTSTART:20221030T010000
END:STANDARD
END:VTIMEZONE
BEGIN:VEVENT
DTSTART;TZID=Europe/Andorra:20220121T000000
DTEND;TZID=Europe/Andorra:20220220T000000
DTSTAMP:20260420T124803
CREATED:20220112T130457Z
LAST-MODIFIED:20250624T092628Z
UID:17642-1642723200-1645315200@octubre.cat
SUMMARY:(re)apropiacions fotogràfiques
DESCRIPTION:Exposició del Màster en Fotografia\, Art i Tècnica de la Universitat Politècnica de València \nObres de:\nSofía Alemán Arozena\nJulio Olmo Escribano\nAlicia Palacios Ferri\nGabriela Rivera Lucero\nAlejandrx Robaina\nEsti Taboada \n(re)apropiacions reuneix alguns projectes d’alumnes del Màster en Fotografia\, Art i Tècnica de la Universitat Politècnica de València\, primer màster en fotografia impartit per una universitat pública espanyola\, en marxa des de fa més de 20 anys. Aquests projectes s’han desenvolupat dins de l’àmbit acadèmic\, com a part del seu Treball Final de Màster i discorren dins de dos àmbits: d’una banda\, el social i\, en concret\, dins de l’esfera del feminisme; i de l’altra\, el territori. Es tracta de dues temàtiques que són comunes als corrents fotogràfics internacionals i que responen\, des de perspectives diferents\, als conflictes que sorgeixen de la realitat en què vivim. \n \n \nLa persistència de les desigualtats que denuncia el feminisme\, com també l’extensa ramificació dels aspectes en què opera el patriarcat\, justifiquen l’actualitat i la diversitat de propostes que es produeixen al voltant d’aquest moviment\, també en fotografia. A Historias de lenceria: informe de camarera\, Alejandrx Robaina Vera desenvolupa un treball d’arxiu on conflueixen la reivindicació laboral de les cambreres de pis de Gran Canària amb la fotografia d’àmbit familiar. També Esti Taboada\, a Dona pilotari\, treballa sobre l’arxiu\, en aquest cas per crear ficcions\, en què introdueix la figura femenina com a estratègia de visibilització de la dona en l’àmbit de la pilota valenciana. Per la seua banda\, Gabriela Rivera Lucero crea un Bestiario de féminas\, a tall de catàleg d’animals que es corresponen amb els termes despectius amb els quals es fa referència a la dona en el llenguatge quotidià\, en autoretrats que també al·ludeixen al maltractament animal. \nL’altre focus de l’exposició és posa sobre el territori\, una temàtica que des dels anys 70 és entesa com una translació de moltes altres qüestions; com un contenidor d’una infinitat de significats on desemboquen la història\, la memòria\, l’economia\, les formes de vida\, etc. Tant l’obra de Julio Olmo Escribano com la d’Alicia Palacios Ferri estan dedicades a espais on preval el cultiu de l’arròs; dues cares divergents de la mateixa activitat agrícola. Julio Olmo\, a El lluent\, canvis i ferides\, fa un estudi visual de l’Albufera de València\, un paratge natural el principal deteriorament del qual es deu a la transformació del llac en cultius d’arròs. Mentrestant\, Alicia Palacios\, a Terra\, ens acosta a un paratge arrosser als aiguamolls del Guadalquivir\, cultivat per població d’origen valencià que va mantenir molts dels seus trets culturals. Més conceptual és la perspectiva de Sofia Alemán Arozena a Director’s Cut\, on el mitjà fotogràfic s’autoreferència per a plantejar les problemàtiques que sorgeixen de la seua espacialitat\, però també de la seua corporeïtat i la seua materialitat. \nEn darrer terme\, l’eix comú a aquestes tres últimes sèries és la forma d’ocupació de l’espai o del territori. Igualment\, les tres primeres sèries poden ser enteses com a derives de l’apropiació dels cossos femenins. Una ocupació/apropiació sobre les quals les autores de les sèries reflexionen i analitzen des dels diferents posicionaments\, per a re-aprehendre sobre aquestes realitats que ens travessen\, en definitiva\, per a re-apropiar-se’n. \n—\nComissariat\, disseny i impressió:\nLola Fabra Anton \nOrganitza:\nMáster en Fotografia UPV \nCol·laboren:\nOctubre Centre de Cultura Contemporània\nUniversitat Politècnica de València\nFederació de Pilota Valenciana
URL:https://octubre.cat/activitat/reapropiacions-fotografiques/
LOCATION:Sala d’exposicions
CATEGORIES:Exposicions
ATTACH;FMTTYPE=image/jpeg:https://octubre.cat/www/wp-content/uploads/2022/01/reapropiacions-cap.jpg
END:VEVENT
BEGIN:VEVENT
DTSTART;TZID=Europe/Andorra:20220125T190000
DTEND;TZID=Europe/Andorra:20220125T190000
DTSTAMP:20260420T124803
CREATED:20211130T161205Z
LAST-MODIFIED:20250629T101435Z
UID:17453-1643137200-1643137200@octubre.cat
SUMMARY:Premis Nobel 2021: Física
DESCRIPTION:Premi atorgat a Syukuro Manabe\, Klaus Hasselmann i Giorgio Parisi “per les sues innovadores contribucions a la nostra comprensió dels sistemes complexos”. \nConferència “Tres ingredients de les lleis naturals: desordre\, atzar i interaccions: De l’aleteig de la papallona al Nobel 2021”\, a càrrec de Susanna Manrubia (Departamento de Biología de Sistemas\, Centro Nacional de Biotecnología CNB – CSIC). \nMés informació
URL:https://octubre.cat/activitat/premis-nobel-2021-fisica/
LOCATION:Aula 1
CATEGORIES:Espai Ciència
ATTACH;FMTTYPE=image/jpeg:https://octubre.cat/www/wp-content/uploads/2021/11/nobel-fisica-2021.jpg
END:VEVENT
BEGIN:VEVENT
DTSTART;TZID=Europe/Andorra:20220125T190000
DTEND;TZID=Europe/Andorra:20220125T190000
DTSTAMP:20260420T124803
CREATED:20211130T175607Z
LAST-MODIFIED:20250624T100513Z
UID:17466-1643137200-1643137200@octubre.cat
SUMMARY:Presentació del llibre Herminio Almendros. Un maestro de la Segunda República\, de Ferran Zurriaga
DESCRIPTION:A càrrec de Carmen Agulló\, Alfred Ramos i l’autor. \nIntroductor de les tècniques Freinet en l’escola espanyola i en la cubana\, Herminio Almendros va ser\, a més\, un renovador de la literatura per a la infància\, tasca en la qual va destacar la seua actualització de l’obra de José Martí. L’autor d’aquest llibre\, Ferran Zurriaga\, fa un recorregut per la vida i l’activitat docent d’Almendros a partir de materials inèdits\, cartes personals i testimoniatges de les persones més pròximes a ell\, per a descobrir-nos una de les figures més influents en la pedagogia moderna. \n \n(Publicacions de la Universitat de València)
URL:https://octubre.cat/activitat/presentacio-del-llibre-herminio-almendros-un-maestro-de-la-segunda-republica-de-ferran-zurriaga/
LOCATION:Llibreria Fan Set
CATEGORIES:Literatura
ATTACH;FMTTYPE=image/jpeg:https://octubre.cat/www/wp-content/uploads/2021/11/zurriaga.jpg
END:VEVENT
END:VCALENDAR