BEGIN:VCALENDAR
VERSION:2.0
PRODID:-//Octubre Centre de Cultura Contemporània - ECPv5.1.6//NONSGML v1.0//EN
CALSCALE:GREGORIAN
METHOD:PUBLISH
X-WR-CALNAME:Octubre Centre de Cultura Contemporània
X-ORIGINAL-URL:https://octubre.cat
X-WR-CALDESC:Events for Octubre Centre de Cultura Contemporània
BEGIN:VTIMEZONE
TZID:Europe/Andorra
BEGIN:DAYLIGHT
TZOFFSETFROM:+0100
TZOFFSETTO:+0200
TZNAME:CEST
DTSTART:20080330T010000
END:DAYLIGHT
BEGIN:STANDARD
TZOFFSETFROM:+0200
TZOFFSETTO:+0100
TZNAME:CET
DTSTART:20081026T010000
END:STANDARD
END:VTIMEZONE
BEGIN:VEVENT
DTSTART;TZID=Europe/Andorra:20080612T200000
DTEND;TZID=Europe/Andorra:20080612T200000
DTSTAMP:20260421T045104
CREATED:20200729T181914Z
LAST-MODIFIED:20200730T035751Z
UID:12594-1213300800-1213300800@octubre.cat
SUMMARY:Zener (València)
DESCRIPTION:Dijous 12\, 20h Zener (València)  \n  \n  \n\nZener\, un dels màxims exponents del pop-rock\, experimental i psychedelic valencià\, són Jordi (drums) Jose (guitarra i baix) Juli (guitarra i baix) i Nick (baix i guitarra). En aquesta sessió presentaran el seu darrer treball\, enregistrat el passat mes d’abril per Pablo Peiró i masteritzat per John Golden (Sonic Youth).  (Amb la col·laboració de Tranquilo Música)
URL:https://octubre.cat/activitat/zener-valencia/
LOCATION:No definit
CATEGORIES:Cicle de música pop
ATTACH;FMTTYPE=image/jpeg:https://octubre.cat/www/wp-content/uploads/2020/07/musica1.jpg
END:VEVENT
END:VCALENDAR