BEGIN:VCALENDAR
VERSION:2.0
PRODID:-//Octubre Centre de Cultura Contemporània - ECPv5.1.6//NONSGML v1.0//EN
CALSCALE:GREGORIAN
METHOD:PUBLISH
X-WR-CALNAME:Octubre Centre de Cultura Contemporània
X-ORIGINAL-URL:https://octubre.cat
X-WR-CALDESC:Events for Octubre Centre de Cultura Contemporània
BEGIN:VTIMEZONE
TZID:Europe/Andorra
BEGIN:DAYLIGHT
TZOFFSETFROM:+0100
TZOFFSETTO:+0200
TZNAME:CEST
DTSTART:20080330T010000
END:DAYLIGHT
BEGIN:STANDARD
TZOFFSETFROM:+0200
TZOFFSETTO:+0100
TZNAME:CET
DTSTART:20081026T010000
END:STANDARD
END:VTIMEZONE
BEGIN:VEVENT
DTSTART;TZID=Europe/Andorra:20080413T190000
DTEND;TZID=Europe/Andorra:20080413T190000
DTSTAMP:20260420T215325
CREATED:20200729T181819Z
LAST-MODIFIED:20200730T035707Z
UID:12538-1208113200-1208113200@octubre.cat
SUMMARY:Yei\, Yi & Co
DESCRIPTION:Yei Yi & Co és un grup liderat pel baterista Jesús Gallardo\, qui ha comptat amb: Bruno Esteban a la guitarra elèctrica\, José Muñoz al saxo tenor i Diego Barberá al baix elèctrico i contrabaix. Presentaran el seu segon disc Otro Muro Sobre El Ladrillo\, per a l’elaboració del qual han comptat amb l’especial col·laboració de Kike Amat. Tot el treball entra en una línia jazzística heterodoxa on el canvi d’ambients i els espacis de lliure expressió són la tònica fonamental.
URL:https://octubre.cat/activitat/yei-yi-co-2/
LOCATION:No definit
CATEGORIES:Diumenges de Jazz!
ATTACH;FMTTYPE=image/jpeg:https://octubre.cat/www/wp-content/uploads/2020/07/musica1.jpg
END:VEVENT
END:VCALENDAR