BEGIN:VCALENDAR
VERSION:2.0
PRODID:-//Octubre Centre de Cultura Contemporània - ECPv5.1.6//NONSGML v1.0//EN
CALSCALE:GREGORIAN
METHOD:PUBLISH
X-WR-CALNAME:Octubre Centre de Cultura Contemporània
X-ORIGINAL-URL:https://octubre.cat
X-WR-CALDESC:Events for Octubre Centre de Cultura Contemporània
BEGIN:VTIMEZONE
TZID:Europe/Andorra
BEGIN:DAYLIGHT
TZOFFSETFROM:+0100
TZOFFSETTO:+0200
TZNAME:CEST
DTSTART:20100328T010000
END:DAYLIGHT
BEGIN:STANDARD
TZOFFSETFROM:+0200
TZOFFSETTO:+0100
TZNAME:CET
DTSTART:20101031T010000
END:STANDARD
END:VTIMEZONE
BEGIN:VEVENT
DTSTART;TZID=Europe/Andorra:20100118T210000
DTEND;TZID=Europe/Andorra:20100118T210000
DTSTAMP:20260420T163926
CREATED:20200729T164649Z
LAST-MODIFIED:20200729T182728Z
UID:8688-1263848400-1263848400@octubre.cat
SUMMARY:Yannick Dauby
DESCRIPTION:Dilluns 18 de gener\, a les 21.00h: Yannick Dauby (França/Taiwan).   \n  \n  \n\nNascut a França\, però amb base a Taiwan\, Dauby treballa la música concreta i electroacústica\, la improvisació i la pedagogia de l’escolta\, mitjançant els objectes trobats\, la fonografia i els ordinadors. Com a field recordist\, s’interessa particularment en els sons d’ambient naturals i d’animals\, però també els que es produeixen als contextos urbans i industrials i els fenòmens acústics insòlits. Cada passejada o excursió és un bon pretext per a enregistrar. Aquests sons els fa servir en la composició i el bricolatge fonogràfic. Treballa sovint en col·laboració amb altres músics i artistes visuals\, produint performances multimèdia\, instal·lacions i tallers. En aquests moments\, estudia el soundscape i les relacions entre humans i animals basades en l’escolta.
URL:https://octubre.cat/activitat/yannick-dauby/
LOCATION:No definit
CATEGORIES:Vibra
ATTACH;FMTTYPE=image/jpeg:https://octubre.cat/www/wp-content/uploads/2020/07/activitat1032.jpg
END:VEVENT
END:VCALENDAR