BEGIN:VCALENDAR
VERSION:2.0
PRODID:-//Octubre Centre de Cultura Contemporània - ECPv5.1.6//NONSGML v1.0//EN
CALSCALE:GREGORIAN
METHOD:PUBLISH
X-WR-CALNAME:Octubre Centre de Cultura Contemporània
X-ORIGINAL-URL:https://octubre.cat
X-WR-CALDESC:Events for Octubre Centre de Cultura Contemporània
BEGIN:VTIMEZONE
TZID:Europe/Andorra
BEGIN:DAYLIGHT
TZOFFSETFROM:+0100
TZOFFSETTO:+0200
TZNAME:CEST
DTSTART:20150329T010000
END:DAYLIGHT
BEGIN:STANDARD
TZOFFSETFROM:+0200
TZOFFSETTO:+0100
TZNAME:CET
DTSTART:20151025T010000
END:STANDARD
END:VTIMEZONE
BEGIN:VEVENT
DTSTART;TZID=Europe/Andorra:20150612T193000
DTEND;TZID=Europe/Andorra:20150612T193000
DTSTAMP:20260422T020351
CREATED:20200729T171114Z
LAST-MODIFIED:20200730T041446Z
UID:10194-1434137400-1434137400@octubre.cat
SUMMARY:XXV Premis de la Crítica dels Escriptors Valencians
DESCRIPTION:Divendres 12 de juny a les 19.30h. L’acte inclou també un homenatge al poeta Marc Granell. Organitzat per l’AELC amb la col·laboració de l’Octubre CCC i les Universitats d’Alacant i Jaume I de Castelló  \n  \n  \n\n El divendres 12 de juny l’AELC (Associació d’Escriptors en Llengua Catalana) lliurarà a València els XXV Premis de la Crítica dels Escriptors Valencians\, de narrativa\, literatura infantil\, literatura juvenil\, poesia\, assaig\, teatre i difusió. Durant l’acte es farà un homenatge al poeta Marc Granell. Enguany també es lliurarà el VI Premi de poesia Manel Garcia Grau\, que atorga la Universitat Jaume I.  Amb les actuacions musicals de Manuela Alandes i Francesc Anyó i Borja Penalba.   L’acte de lliurament dels premis és gratuït. En acabat\, hi haurà un sopar\, al qual us animem a assistir. Els preus són: socis AELC + acompanyant: 18€ per persona; socis de CEDRO\, 20€; resta\, 22€. Cal inscriure’s al 93 302 78 28 o bé a aelc@escriptors.cat.  Organitzat per l’AELC amb la col·laboració de l’Octubre CCC i les Universitats d’Alacant i Jaume I de Castelló.
URL:https://octubre.cat/activitat/xxv-premis-de-la-critica-dels-escriptors-valencians/
LOCATION:Hall
CATEGORIES:Conferències i congressos
ATTACH;FMTTYPE=image/jpeg:https://octubre.cat/www/wp-content/uploads/2020/07/activitat2335.jpg
END:VEVENT
END:VCALENDAR