BEGIN:VCALENDAR
VERSION:2.0
PRODID:-//Octubre Centre de Cultura Contemporània - ECPv5.1.6//NONSGML v1.0//EN
CALSCALE:GREGORIAN
METHOD:PUBLISH
X-WR-CALNAME:Octubre Centre de Cultura Contemporània
X-ORIGINAL-URL:https://octubre.cat
X-WR-CALDESC:Events for Octubre Centre de Cultura Contemporània
BEGIN:VTIMEZONE
TZID:Europe/Andorra
BEGIN:DAYLIGHT
TZOFFSETFROM:+0100
TZOFFSETTO:+0200
TZNAME:CEST
DTSTART:20080330T010000
END:DAYLIGHT
BEGIN:STANDARD
TZOFFSETFROM:+0200
TZOFFSETTO:+0100
TZNAME:CET
DTSTART:20081026T010000
END:STANDARD
END:VTIMEZONE
BEGIN:VEVENT
DTSTART;TZID=Europe/Andorra:20081107T093000
DTEND;TZID=Europe/Andorra:20081107T093000
DTSTAMP:20260420T203800
CREATED:20200730T035904Z
LAST-MODIFIED:20200730T035904Z
UID:14036-1226050200-1226050200@octubre.cat
SUMMARY:XXV Galeusca
DESCRIPTION:Divendres 7 de novembre: Encontre d’escriptors gallecs\, bascos i catalans  \n  \n  \n\nEncontre d’escriptors gallecs\, bascos i catalans La literatura i el paisatge del jo Literatura eta niaren paisaia A literatura e a paisaxe do eu  Sueca-València\, 6\, 7\, 8 i 9 de novembre  Actes que se celebren a l’Octubre CCC:  Divendres\, 7 de novembre:  09.30h. Obertura del XXV Galeusca 10.00h. Taula rodona “Sobre paisatges propis” amb Marilar Aleixandre\, Edorta Jiménez i Julià de Jòdar 12.30h. Passejada literària per València\, guiada per Alfons Llorenç 14.00h. Dinar 17.00h. Taula rodona “El dietarisme\, una forma de reflexió”\, amb Gotzon Barandiaran\, Biel Mesquida i Xavier Queipo  Organitzat per l’Associació d’Escriptors en Llengua Catalana (AELC)
URL:https://octubre.cat/activitat/xxv-galeusca/
LOCATION:No definit
CATEGORIES:Conferències i congressos
ATTACH;FMTTYPE=image/jpeg:https://octubre.cat/www/wp-content/uploads/2020/07/conferencia1.jpg
END:VEVENT
END:VCALENDAR