BEGIN:VCALENDAR
VERSION:2.0
PRODID:-//Octubre Centre de Cultura Contemporània - ECPv5.1.6//NONSGML v1.0//EN
CALSCALE:GREGORIAN
METHOD:PUBLISH
X-WR-CALNAME:Octubre Centre de Cultura Contemporània
X-ORIGINAL-URL:https://octubre.cat
X-WR-CALDESC:Events for Octubre Centre de Cultura Contemporània
BEGIN:VTIMEZONE
TZID:Europe/Andorra
BEGIN:DAYLIGHT
TZOFFSETFROM:+0100
TZOFFSETTO:+0200
TZNAME:CEST
DTSTART:20220327T010000
END:DAYLIGHT
BEGIN:STANDARD
TZOFFSETFROM:+0200
TZOFFSETTO:+0100
TZNAME:CET
DTSTART:20221030T010000
END:STANDARD
END:VTIMEZONE
BEGIN:VEVENT
DTSTART;TZID=Europe/Andorra:20221212T113000
DTEND;TZID=Europe/Andorra:20221216T210000
DTSTAMP:20260420T182842
CREATED:20221201T161719Z
LAST-MODIFIED:20221201T170409Z
UID:19164-1670844600-1671224400@octubre.cat
SUMMARY:XXIV Jornades Llibertàries CGT-València
DESCRIPTION:Del 12 al 16 de desembre de 2022\nAra és el moment. Alternatives anarquistes al col·lapse del capitalisme \n  \nPROGRAMA \nDILLUNS 12 desembre \n11:30 h. Presentació de les jornades i assemblea de delegats\, delegades i afiliació.\nAmb Juan Miguel Font (Secretari General CGT València)\, Miguel Fadrique (Secretari General CGT) i Maribel Ramírez (Secretària d’Acció Sindical CGT). Plans d’igualtat i mesures contra la bretxa salarial. A continuació farem un piscolabis. \n18:30h. Crisi climàtica\, crisi energètica… arribem a temps? Alternatives davant el col·lapse.\nA càrrec de Luis González Reyes\, doctor en Ciències Químiques i membre d’Ecologistes en Acció\, soci de la cooperativa Garúa\, responsable d’educació ecosocial en FUHEM i autor o coautor de diversos llibres entre els quals destaca “En l’espiral de l’energia”. \n  \nDIMARTS 13 desembre \n18:30h. Contra l’ecofeixisme.\nA càrrec de Carlos Taibo\, escriptor\, editor i professor de Ciència Política en la Universitat Autònoma de Madrid\, autor d’un gran nombre d’obres en les quals tracta diversos temes com la geopolítica\, Rússia i Unió Soviètica\, Catalunya\, el 15M\, moviment llibertari\, decreixement i sobre el col·lapse. \n  \nDIMECRES 14 desembre \n17:00h. Programa especial en Ràdio Klara CGT en Acció. Repressió sindical\, és el moment de fer-li front. Lluites i alternatives davant dels abusos de la patronal.\nAmb la participació de César Yagües\, membre del comité d’empresa d’Opel i secretari general de CGT Aragó-La Rioja i Lola Lloreda\, secretària de formació de CGT Andalusia\, Ceuta i Melilla. \n  \nDIJOUS 15 desembre \n18:30h. És el moment de fer-nos sentir. Mitjans de comunicació\, quart poder.\nA càrrec d’Aniceto Arias\, Ràdio Klara; Lucas Marco\, periodista redactor de l’edició valenciana de eldiario.es. \n  \nDIVENDRES 16 desembre \n18:30 h. Presentació còmic-musical de les últimes obres de Rubén Uceda\, “El corazón del sueño”\, “Negras Tormentas” i “Casilda: Revolucionaria”.\nA càrrec del seu autor. Actuació en directe de JOSOLANA\, “El guerrer de la paraula” (Juanito Piquete) que ens delectarà amb les seues cançons revolucionàries. \n  \n \n  \nMés informació \n—\nJornades organitzades per CGT-València amb la col·laboració de l’Octubre CCC.
URL:https://octubre.cat/activitat/xxiv-jornades-llibertaries-cgt-valencia/
LOCATION:Aula 1
CATEGORIES:Conferències i congressos
ATTACH;FMTTYPE=image/jpeg:https://octubre.cat/www/wp-content/uploads/2022/12/jornades-llibertaries-capcalera-2022.jpg
END:VEVENT
END:VCALENDAR