BEGIN:VCALENDAR
VERSION:2.0
PRODID:-//Octubre Centre de Cultura Contemporània - ECPv5.1.6//NONSGML v1.0//EN
CALSCALE:GREGORIAN
METHOD:PUBLISH
X-WR-CALNAME:Octubre Centre de Cultura Contemporània
X-ORIGINAL-URL:https://octubre.cat
X-WR-CALDESC:Events for Octubre Centre de Cultura Contemporània
BEGIN:VTIMEZONE
TZID:Europe/Andorra
BEGIN:DAYLIGHT
TZOFFSETFROM:+0100
TZOFFSETTO:+0200
TZNAME:CEST
DTSTART:20130331T010000
END:DAYLIGHT
BEGIN:STANDARD
TZOFFSETFROM:+0200
TZOFFSETTO:+0100
TZNAME:CET
DTSTART:20131027T010000
END:STANDARD
END:VTIMEZONE
BEGIN:VEVENT
DTSTART;TZID=Europe/Andorra:20131213T000000
DTEND;TZID=Europe/Andorra:20131214T000000
DTSTAMP:20260423T044656
CREATED:20200729T170245Z
LAST-MODIFIED:20200729T184302Z
UID:9656-1386892800-1386979200@octubre.cat
SUMMARY:XXIII Universitat del Tirant
DESCRIPTION:Divendres 13 i dissabte 14 de desembre: Propostes per a vertebrar el país  \n  \n  \n\n Municipis\, comarques\, províncies: #UniTirant  PROPOSTES PER A VERTEBRAR EL PAÍS  DIVENDRES 13  18’45 hores: Obertura per la Directora de la Universitat del Tirant. MARIA JOSEP AMIGÓ. Regidora de l’Ajuntament de Bonrepós i Mirambell i sòcia del Tirant.  19’00 hores: Taula rodona “Municipis\, comarques\, províncies. Són útils les actuals institucions per a governar el territori?” Amb EMILI ALTUR (Regidor de l’Ajuntament de Burjassot i diputat de la Diputació Provincial de València)\, JOAN RIBÓ (Regidor de l’Ajuntament de València) i ENRIC CARBONELL (Regidor de l’ajuntament de Rafelbunyol i Vice-president de la Mancomunitat de l’Horta Nord). Modera: PEPA CHESA (Expresidenta de la Mancomunitat de La Safor i sòcia de l’ACV Tirant lo Blanc)  20’30 hores: Acte de recepció dels nous socis de 2013 del Tirant. Tast de cerveses valencianes   DISSABTE 14  11 hores: Presentació del document de treball de la Fundació Nexe\, #demos4: “Una nova planta per als valencians” A càrrec de l’autor\, ANDRÉS BOIX\, professor de dret administratiu de la Universitat de València. Presenta: VICENT FLOR \, director acadèmic de la Fundació Nexe.  11’45 hores: Pausa.  12 hores: Taula rodona. “Les propostes i crítiques davant el projecte de llei de reforma de l’administració local” amb  ANDRÉS BOIX (Professor de dret administratiu de la Universitat de València)\, RAFAEL CLIMENT (Alcalde de Muro i representant de Compromís en la Fed. Valenciana de Municipis i Províncies)\, ANTONIO MONTIEL (Secretari d’Ajuntament i professor de Ciència Política i de l’Administració de la Universitat de València) i JOSE ANTONIO REDORAT (Secretari gral. de la Fed. Valenciana de Municipis i Províncies). Modera: VICENT GUILLAMON (Secretari\, interventor i tresorer d’adm. local en excedència i soci del Tirant).  14 hores: Dinar.  16’30 hores: Panell d’experiències d’innovació en la política municipal. Modera: ALFRED GINER (Regidor de l’Ajt. de Vilallonga i soci del Tirant.  18 hores: Taula redona: “Els ajuntaments com instrument al servei de la qualitat de vida\, el progrés i la custòdia del territori. Què fem amb els petits municipis?” amb MANUEL CIVERA (Alcalde de Les Alcubles)\, CARLES RODRIGO (Geògraf i Tècnic en desenvolupament local) i FRANCISCO JAVIER CABALLERO (Resp. del sector Adm. Local de la Fed. de Serveis Públics d’UGT i membre de la CEN de FSP UGT-PV) Modera: RICARD BARBERÀ (Regidor de l’Ajuntament de Xirivella i soci del Tirant)  19’30 hores: Col·loqui amb el diputat al Congrés JOAN BALDOVÍ sobre el projecte de llei de reforma de l’administració local. Modera: JESÚS PLA (Alcalde d’Agullent i soci del Tirant)  20’30 hores: Cloenda a càrrec de la Presidenta del Tirant\, NATHALIE TORRES  21’00 hores: sopar i actuació d’EUGENI ALEMANY  Organitzat per l’ACV Tirant lo Blanc Més informació i compra de tíquets
URL:https://octubre.cat/activitat/xxiii-universitat-del-tirant/
LOCATION:No definit
CATEGORIES:Conferències i congressos
ATTACH;FMTTYPE=image/jpeg:https://octubre.cat/www/wp-content/uploads/2020/07/activitat1946.jpg
END:VEVENT
END:VCALENDAR