BEGIN:VCALENDAR
VERSION:2.0
PRODID:-//Octubre Centre de Cultura Contemporània - ECPv5.1.6//NONSGML v1.0//EN
CALSCALE:GREGORIAN
METHOD:PUBLISH
X-WR-CALNAME:Octubre Centre de Cultura Contemporània
X-ORIGINAL-URL:https://octubre.cat
X-WR-CALDESC:Events for Octubre Centre de Cultura Contemporània
BEGIN:VTIMEZONE
TZID:Europe/Andorra
BEGIN:DAYLIGHT
TZOFFSETFROM:+0100
TZOFFSETTO:+0200
TZNAME:CEST
DTSTART:20120325T010000
END:DAYLIGHT
BEGIN:STANDARD
TZOFFSETFROM:+0200
TZOFFSETTO:+0100
TZNAME:CET
DTSTART:20121028T010000
END:STANDARD
END:VTIMEZONE
BEGIN:VEVENT
DTSTART;TZID=Europe/Andorra:20120920T103000
DTEND;TZID=Europe/Andorra:20120922T000000
DTSTAMP:20260422T020215
CREATED:20200729T165819Z
LAST-MODIFIED:20200729T183915Z
UID:9403-1348137000-1348272000@octubre.cat
SUMMARY:XXII Universitat del Tirant
DESCRIPTION:Del 20 al 22 de setembre a Ca Revolta i a l’Octubre CCC. Organitzada per l’ACV Tirant lo Blanc  \n  \n  \n\nOrganitza: Associació Cívica Valenciana Tirant lo Blanc  Les activitats dels dies 20 i 21 se celebren a Ca Revolta Podeu consultar el programa complet en aquest enllaç  Dissabte 22 de setembre a l’Octubre Centre de Cultura Contemporània  10\,30 – 11.45h Taula redona: Política #dospuntzero ·Ernest Benach. Expresident del Parlament de Catalunya i autor de “Política 2.0” ·Vicent Martínez. Periodista expert en comunicació política. ·Sergi Campillo. Assessor del grup municipal i Community Manager.  11\,45 – 12\,30h Esmorzar  12\,30 – 14h Taula redona: Ciutadania i drets #dospuntzero ·Fran Ferri .  Diputat a les Corts Valencianes per Compromís ·Ximo Valls – Govern Obert ·Gala Pin – X.net (antiga EXGAE)  14.30 – 17h Dinar  17- 17\,30 Projecte #demos3 Fundació Nexe: democràcia #dospuntzero ·Carlos Villodres. Politòleg\, autor del quadern #demos3 ·Vicent Flor. Director acadèmic de la Fundació Nexe  17’30 – 19.00h Taula redona: Cultura  #dospuntzero ·Carles Biano (Orxata Sound System) ·Francesc Felipe  (Pedra Paper i Tisora) · M. Rasoir Electrique (blogaire)  19’00 – 19.15h Pausa cafè  19.15- 20.30h Taula redona: comunicació #dospuntzero ·Brauli Duart (CCRTV) ·Vicent Partal (Vilaweb) ·Xavier Aliaga (blogaire i periodista)  20.30h Cloenda a càrrec de Nathalie Torres\, Presidenta de l’ACV Tirant lo Blanc.  22.00h Sopar i festa a Ca Revolta amb l’actuació de Toni de l’Hostal (Patrocinada per Pollos Planes)
URL:https://octubre.cat/activitat/xxii-universitat-del-tirant/
LOCATION:No definit
CATEGORIES:Conferències i congressos
ATTACH;FMTTYPE=image/jpeg:https://octubre.cat/www/wp-content/uploads/2020/07/activitat1648.jpg
END:VEVENT
END:VCALENDAR