BEGIN:VCALENDAR
VERSION:2.0
PRODID:-//Octubre Centre de Cultura Contemporània - ECPv5.1.6//NONSGML v1.0//EN
CALSCALE:GREGORIAN
METHOD:PUBLISH
X-WR-CALNAME:Octubre Centre de Cultura Contemporània
X-ORIGINAL-URL:https://octubre.cat
X-WR-CALDESC:Events for Octubre Centre de Cultura Contemporània
BEGIN:VTIMEZONE
TZID:Europe/Andorra
BEGIN:DAYLIGHT
TZOFFSETFROM:+0100
TZOFFSETTO:+0200
TZNAME:CEST
DTSTART:20120325T010000
END:DAYLIGHT
BEGIN:STANDARD
TZOFFSETFROM:+0200
TZOFFSETTO:+0100
TZNAME:CET
DTSTART:20121028T010000
END:STANDARD
END:VTIMEZONE
BEGIN:VEVENT
DTSTART;TZID=Europe/Andorra:20120706T200000
DTEND;TZID=Europe/Andorra:20120706T200000
DTSTAMP:20260422T070525
CREATED:20200729T165809Z
LAST-MODIFIED:20200729T183907Z
UID:9393-1341604800-1341604800@octubre.cat
SUMMARY:XXI Premis Turia: Nacho Vidal
DESCRIPTION:Divendres 6 de juliol a les 20.00h: presentació i col·loqui amb Nacho Vidal\, premi “Huevo de Colón 2012”  \n  \n  \n\nActes paral·les a la concessió dels XXI Premis Turia\, organitzats per la cartellera Turia  Presentació de Nacho Vidal\, actor i director de cinema porno\, i col·loqui posterior. Premi Turia “Huevo de Colón 2012”. Amb la participació de Manuel Valencia i Paco Gisbert
URL:https://octubre.cat/activitat/xxi-premis-turia-nacho-vidal/
LOCATION:No definit
CATEGORIES:Literatura
ATTACH;FMTTYPE=image/jpeg:https://octubre.cat/www/wp-content/uploads/2020/07/activitat1637.jpg
END:VEVENT
END:VCALENDAR