BEGIN:VCALENDAR
VERSION:2.0
PRODID:-//Octubre Centre de Cultura Contemporània - ECPv5.1.6//NONSGML v1.0//EN
CALSCALE:GREGORIAN
METHOD:PUBLISH
X-WR-CALNAME:Octubre Centre de Cultura Contemporània
X-ORIGINAL-URL:https://octubre.cat
X-WR-CALDESC:Events for Octubre Centre de Cultura Contemporània
BEGIN:VTIMEZONE
TZID:Europe/Andorra
BEGIN:DAYLIGHT
TZOFFSETFROM:+0100
TZOFFSETTO:+0200
TZNAME:CEST
DTSTART:20160327T010000
END:DAYLIGHT
BEGIN:STANDARD
TZOFFSETFROM:+0200
TZOFFSETTO:+0100
TZNAME:CET
DTSTART:20161030T010000
END:STANDARD
END:VTIMEZONE
BEGIN:VEVENT
DTSTART;TZID=Europe/Andorra:20161119T200000
DTEND;TZID=Europe/Andorra:20161119T200000
DTSTAMP:20260421T051110
CREATED:20200729T172217Z
LAST-MODIFIED:20200729T185651Z
UID:10900-1479585600-1479585600@octubre.cat
SUMMARY:XX Nit del Tirant i la Fundació Nexe
DESCRIPTION:Dissabte 19 de novembre a partir de les 20.00h. Lliurament dels premis Joan Baptista Basset i Francesc de Vinatea.  \n  \n  \n\n El proper 19 de novembre celebrem la XX Nit del Tirant\, en la qual commemorarem el 25é aniversari de l’ACV Tirant lo Blanc i el 5é aniversari de la Fundació Nexe\, i per tant\, la vida associativa d’ambdues i la tasca valencianista que desenvolupen.  La cita tindrà lloc a les 20.00 hores a l’Octubre Centre de Cultura Contemporània (carrer Sant Ferran\, 12\, Ciutat de València)\, amb un acte durant el qual podrem gaudir de màgia\, música\, menjar i comboi; en el qual també atorgarem els premis Joan Baptiste Basset\, a l’acció valencianista de base\, i Francesc de Vinatea\, a la trajectòria cívica valencianista.  Una ocasió especial per a retrobar-nos totes les persones que hem participat i hem fet possible al llarg d’aquests anys la celebració d’un nou aniversari.  Organitzat per l’ACV Tirant lo Blanc i la Fundació Nexe. Més informació i reserves per al sopar
URL:https://octubre.cat/activitat/xx-nit-del-tirant-i-la-fundacio-nexe/
LOCATION:Hall
CATEGORIES:Literatura
ATTACH;FMTTYPE=image/jpeg:https://octubre.cat/www/wp-content/uploads/2020/07/activitat2711.jpg
END:VEVENT
END:VCALENDAR