BEGIN:VCALENDAR
VERSION:2.0
PRODID:-//Octubre Centre de Cultura Contemporània - ECPv5.1.6//NONSGML v1.0//EN
CALSCALE:GREGORIAN
METHOD:PUBLISH
X-WR-CALNAME:Octubre Centre de Cultura Contemporània
X-ORIGINAL-URL:https://octubre.cat
X-WR-CALDESC:Events for Octubre Centre de Cultura Contemporània
BEGIN:VTIMEZONE
TZID:Europe/Andorra
BEGIN:DAYLIGHT
TZOFFSETFROM:+0100
TZOFFSETTO:+0200
TZNAME:CEST
DTSTART:20220327T010000
END:DAYLIGHT
BEGIN:STANDARD
TZOFFSETFROM:+0200
TZOFFSETTO:+0100
TZNAME:CET
DTSTART:20221030T010000
END:STANDARD
END:VTIMEZONE
BEGIN:VEVENT
DTSTART;TZID=Europe/Andorra:20221024T190000
DTEND;TZID=Europe/Andorra:20221024T190000
DTSTAMP:20260422T100911
CREATED:20221017T083548Z
LAST-MODIFIED:20221019T085849Z
UID:18874-1666638000-1666638000@octubre.cat
SUMMARY:XVI Cortocomenius (II)
DESCRIPTION:Cortocomenius és un festival de curtmetratges realitzat per l’Associació Cultural Juan Comenius\, integrada per professors del Comenius Centre Educatiu de València. El festival pretén donar cabuda als joves reaitzadors i ser una finestra per als creadors valencians. \nEl festival va tindre la seua primera edició al 2007 i enguany té lloc a diverses seus entre el 17 i el 28 d’octubre. \nA l’Octubre CCC es realitzen dues sessions de la Secció No Oficial\, els dies 20 i 24 d’octubre de 2022. \nPROJECCIONS DE DILLUNS 24:\n—Miedo\, d’Ángelo Moreno\n—Dana\, de Lucía Forner\n—Los melocotones no flotan en el agua\, de Gustavo R. Cuneo\n—Fortuna\, de Jairo González \nDesprés de les projeccions hi haurà un col·loqui amb els realitzadors. \n  \n\n—\nOrganitzat pel festival Cortocomenius amb la col·laboració de l’Octubre CCC.
URL:https://octubre.cat/activitat/xvi-cortocomenius-ii/
LOCATION:Sala d’actes
CATEGORIES:Cinema
ATTACH;FMTTYPE=image/jpeg:https://octubre.cat/www/wp-content/uploads/2022/10/cortocomenius-2022-cap.jpg
END:VEVENT
END:VCALENDAR