BEGIN:VCALENDAR
VERSION:2.0
PRODID:-//Octubre Centre de Cultura Contemporània - ECPv5.1.6//NONSGML v1.0//EN
CALSCALE:GREGORIAN
METHOD:PUBLISH
X-WR-CALNAME:Octubre Centre de Cultura Contemporània
X-ORIGINAL-URL:https://octubre.cat
X-WR-CALDESC:Events for Octubre Centre de Cultura Contemporània
BEGIN:VTIMEZONE
TZID:Europe/Andorra
BEGIN:DAYLIGHT
TZOFFSETFROM:+0100
TZOFFSETTO:+0200
TZNAME:CEST
DTSTART:20070325T010000
END:DAYLIGHT
BEGIN:STANDARD
TZOFFSETFROM:+0200
TZOFFSETTO:+0100
TZNAME:CET
DTSTART:20071028T010000
END:STANDARD
END:VTIMEZONE
BEGIN:VEVENT
DTSTART;TZID=Europe/Andorra:20071024T000000
DTEND;TZID=Europe/Andorra:20071026T000000
DTSTAMP:20260421T182341
CREATED:20260106T162149Z
LAST-MODIFIED:20260106T162250Z
UID:24564-1193184000-1193356800@octubre.cat
SUMMARY:XVI Congrés de Mitjans de Comunicació: Llibertat d’expressió i qualitat de la informació
DESCRIPTION:Dimecres 24 d’octubre \n–Conferència inaugural “Molta informació i poca qualitat” a càrrec de Romà Gubern (catedràtic de Comunicació Visual de la Universitat Autònoma de Barcelona) \n–Taula rodona sobre el mateix tema amb Josep Carles Rius (degà del Col·legi de Periodistes de Catalunya\, Amparo Bou (secretària de la Unió de Periodistes del País Valencià) i Andreu Manresa (president del Sindicat de Periodistes de les Illes Balears). Modera Josep Lluís Gómez-Mompart (Universitat de València) \n–“Els periodistes censurats o perseguits” amb Witold Krasucki (periodista polonès) i Julià Álvaro (periodista). Modera Carolina Moreno (Universitat de València) \n–“Apostar per la qualitat periodística” amb Alejandro Perales (director de l’Asociación de Usuarios de la Comunicación” i Santiago Ramentol (periodista). Modera Dolors Palau (Universitat de València9 \n \n\nDijous 25 d’octubre \n–“Informar des de Madrid” amb Joan Antoni Blai\, Ferran Casas i Josep Capella (periodistes). Modera Rafa Xambó (Universitat de València) \n–“El periodisme i l’Orient Mitjà” amb Javier Valenzuela i Lola Bañon (periodistes). Modera Remei Blasco (periodista) \n–“Israel-Palestina\, la terra de les 1001 no…tícies”\, amb Henrique Cymerman\, Yael Kehat i Ziad Darwish (periodistes) \n  \nDivendres 26 d’octubre \n–“La llibertat mediàtica al País Basc” amb Gorka Landaburu (periodista) i Martxelo Otamendi (director de Berria). Modera Enric Marin (Universitat Autònoma de Barcelona) \n–“Periodisme de guerra i llibertat d’expressió” amb Sandra Nyaira (periodista) presentada per Rafa Miralles (Universitat de València) \n–Debat de cloenda a càrrec de Maria Dolors Massana (presidenta de Reporteros Sin Fronteras) i Martí Domínguez (Universitat de València). Modera Rafa Xambó (UV).
URL:https://octubre.cat/activitat/xvi-congres-de-mitjans-de-comunicacio-llibertat-dexpressio-i-qualitat-de-la-informacio/
LOCATION:No definit
CATEGORIES:Premis Octubre
ATTACH;FMTTYPE=image/jpeg:https://octubre.cat/www/wp-content/uploads/2020/07/premisoctubre1-1.jpg
END:VEVENT
END:VCALENDAR