BEGIN:VCALENDAR
VERSION:2.0
PRODID:-//Octubre Centre de Cultura Contemporània - ECPv5.1.6//NONSGML v1.0//EN
CALSCALE:GREGORIAN
METHOD:PUBLISH
X-WR-CALNAME:Octubre Centre de Cultura Contemporània
X-ORIGINAL-URL:https://octubre.cat
X-WR-CALDESC:Events for Octubre Centre de Cultura Contemporània
BEGIN:VTIMEZONE
TZID:Europe/Andorra
BEGIN:DAYLIGHT
TZOFFSETFROM:+0100
TZOFFSETTO:+0200
TZNAME:CEST
DTSTART:20250330T010000
END:DAYLIGHT
BEGIN:STANDARD
TZOFFSETFROM:+0200
TZOFFSETTO:+0100
TZNAME:CET
DTSTART:20251026T010000
END:STANDARD
END:VTIMEZONE
BEGIN:VEVENT
DTSTART;TZID=Europe/Andorra:20251021T193000
DTEND;TZID=Europe/Andorra:20251021T193000
DTSTAMP:20260420T175429
CREATED:20251007T125532Z
LAST-MODIFIED:20251007T125532Z
UID:23774-1761075000-1761075000@octubre.cat
SUMMARY:XIX Cortocomenius (II)
DESCRIPTION:Cortocomenius és un festival de curtmetratges realitzat per l’Associació Cultural Juan Comenius\, integrada per professors del Comenius Centre Educatiu de València. El festival pretén donar cabuda als joves realitzadors i ser una finestra per als creadors valencians. \nA l’Octubre CCC es realitzen dues sessions de la Secció No Oficial\, els dies 14 i 21 d’octubre de 2025\, \nPROJECCIONS DEL DIMARTS 21 D’OCTUBRE \n—Leonardo\, de Meka Rivera i Álvaro G. Company\n—Carmela\, de Vicente Mallols\n—7 minuts al paradís\, de Victoria Avinyó\n—Switched On\, d’Iván Fernández de Córdoba\n—Berta\, de Lucía Forner Segarra \nDesprés de les projeccions hi haurà un col·loqui amb els realitzadors. \n  \n \n—\nOrganitzat pel festival Cortocomenius amb la col·laboració de l’Octubre CCC.
URL:https://octubre.cat/activitat/xix-cortocomenius-ii/
LOCATION:Sala d’actes
CATEGORIES:Cinema
ATTACH;FMTTYPE=image/jpeg:https://octubre.cat/www/wp-content/uploads/2025/10/cortocomenius-2025-top.jpg
END:VEVENT
END:VCALENDAR