BEGIN:VCALENDAR
VERSION:2.0
PRODID:-//Octubre Centre de Cultura Contemporània - ECPv5.1.6//NONSGML v1.0//EN
CALSCALE:GREGORIAN
METHOD:PUBLISH
X-WR-CALNAME:Octubre Centre de Cultura Contemporània
X-ORIGINAL-URL:https://octubre.cat
X-WR-CALDESC:Events for Octubre Centre de Cultura Contemporània
BEGIN:VTIMEZONE
TZID:Europe/Andorra
BEGIN:DAYLIGHT
TZOFFSETFROM:+0100
TZOFFSETTO:+0200
TZNAME:CEST
DTSTART:20080330T010000
END:DAYLIGHT
BEGIN:STANDARD
TZOFFSETFROM:+0200
TZOFFSETTO:+0100
TZNAME:CET
DTSTART:20081026T010000
END:STANDARD
END:VTIMEZONE
BEGIN:VEVENT
DTSTART;TZID=Europe/Andorra:20081021T000000
DTEND;TZID=Europe/Andorra:20081024T000000
DTSTAMP:20260421T092311
CREATED:20200729T181839Z
LAST-MODIFIED:20200730T035723Z
UID:12558-1224547200-1224806400@octubre.cat
SUMMARY:XIV Congrés de Pensament: Política i religió
DESCRIPTION:21 al 24 d’octubre: XIV Congrés de Pensament: Política i religió  \n  \n  \n\nLes relacions entre política i religió constitueixen un dels temes cabdals del nostre temps. La separació d’esferes\, el laïcisme\, el concepte mateix d’un espai públic neutral i allunyat d’interferències d’arrel religiosa\, però compatible amb creences íntimes\, són qüestionats. El que semblava una conquista irrenunciable de la modernitat és avui sotmès a interpretacions restrictives\, o directament impugnat. Per un costat assistim a la difusió -d’un islam radical i militant que desborda àmpliament les fronteres de la fe i la creença personal per englobar el conjunt de pràctiques socials i la vida política\, que vol sotmetre a una legislació pròpia. Per un altre costat s’observa una preocupant tendència d’involució al si\, per exemple\, de l’Església Catòlica\, que s’allunya de l’esperit del Concili Vaticà II i que retorna a velles pràctiques d’alineament polític i d’intervencionisme abusiu en qüestions de tipus ètic i social\, amb voluntat de fer prevaler una moral particular i específica en detriment de legislacions democràticament acceptades. La nova ofensiva “creacionista”\, les especulacions al voltant del “disseny intel·ligent”\, finalment\, posen en qüestió\, l’autonomia i l’autoritat de la recerca científica. A més a més\, en diferents cultures i àmbits socials arreu del món\, el component religiós dels conflictes més vius\, ens convida a reflexionar de manera rigorosa\, i a partir del diàleg entre sensibilitats diferenciades\, sobre unes relacions que no han estat mai plàcides però que a hores d’ara assoleixen un nou significat i una nova virulència.  Coordinador: Gustau Muñoz (Universitat de València)  PROGRAMA  Dimarts  21/10/08 -18 h: Conferència inaugural: “Les religions contra la raó”\, amb Paolo Flores d’Arcais  Dimecres 22/10/08. Religions i modernitat -10\,00h: Conferència: “Cristianisme i raó científica”\, amb  Ramon Maria Nogués (Universitat Autònoma de Barcelona) -11.15h: Conferència: “Creença religiosa i modernitat”\, amb Manuel-Reyes Mate (CSIC\, Madrid)  -12\,45h: Conferència: “El procés de secularització de la societat”\, amb Ramir Reig (Universitat de València)  Islam\, laïcisme i democràcia -16h: Conferència.”Islam i societat democràtica”\, amb  Abdennur Prado (President de la Junta Islàmica Catalana) -17\,15h: Conferència:“Relat islamista. Islam: entre l’islamisme i el pensament musulmà progresista”\, amb Antonio Elorza (Universitat Complutense de Madrid)  -18\,15: Conferència:  “El pluralisme del món islàmic”\, amb Gema Martín Muñoz (sociòloga\, Universitat Autònoma de Madrid)  Dijous 23/10/08 ¿Involució de l’Església Catòlica? -10h: Conferència:  “Retorn al nacional-catolicisme”\, amb Antoni Duato (teòleg\, València)  -11\,15h: Conferència:  “Missatge profètic\, integrisme i modernitat tecnològica”\, amb Francesc Torralba (filòsof\, Universitat Ramon Llull\, Barcelona) -12\,30h: Conferència:  “Poder institucional\, dogmatisme i llibertat”\, amb Gonzalo Puente Ojea (historiador i assagista\, ex ambaixador d’Espanya al Vaticà) Religió\, identitat i violència -16.30: Conferència “Identitat i religió”\, a càrrec d’Adrià Chavarría (crític literari i assagista) -17.30: Conferència: “La racionalitat com a utopia política”\, amb Josep-Maria Terricabras (filòsof\, Universitat de Girona).  Divendres 24/10/08 -11\,15h: Conferència de cloenda: “La llibertat religiosa a l’estat laic”\, amb Victòria Camps (filòsofa\, Universitat Autònoma de Barcelona)  MATRÍCULA TANCADA
URL:https://octubre.cat/activitat/xiv-congres-de-pensament-politica-i-religio/
LOCATION:No definit
CATEGORIES:Premis Octubre
ATTACH;FMTTYPE=image/jpeg:https://octubre.cat/www/wp-content/uploads/2020/07/premisoctubre1.jpg
END:VEVENT
END:VCALENDAR