BEGIN:VCALENDAR
VERSION:2.0
PRODID:-//Octubre Centre de Cultura Contemporània - ECPv5.1.6//NONSGML v1.0//EN
CALSCALE:GREGORIAN
METHOD:PUBLISH
X-WR-CALNAME:Octubre Centre de Cultura Contemporània
X-ORIGINAL-URL:https://octubre.cat
X-WR-CALDESC:Events for Octubre Centre de Cultura Contemporània
BEGIN:VTIMEZONE
TZID:Europe/Andorra
BEGIN:DAYLIGHT
TZOFFSETFROM:+0100
TZOFFSETTO:+0200
TZNAME:CEST
DTSTART:20070325T010000
END:DAYLIGHT
BEGIN:STANDARD
TZOFFSETFROM:+0200
TZOFFSETTO:+0100
TZNAME:CET
DTSTART:20071028T010000
END:STANDARD
END:VTIMEZONE
BEGIN:VEVENT
DTSTART;TZID=Europe/Andorra:20071024T000000
DTEND;TZID=Europe/Andorra:20071026T003000
DTSTAMP:20260421T182540
CREATED:20251228T200009Z
LAST-MODIFIED:20251228T200009Z
UID:24450-1193184000-1193358600@octubre.cat
SUMMARY:XIII Congrés de Pensament. Entre el record i l’oblit: la creació social de la memòria
DESCRIPTION:Dimecres 24 d’octubre \n–Conferència inaugural a càrrec de Sebastià Serra (professor d’Història Contemporània de la Universitat de les Illes Balears) \n–“Història i memòria: dues aproximacions al passat”\, amb Pelai Pagès (doctor en Història de la Universitat de Barcelona)\, Antoni Furió (catedràtic d’Història Medieval i director del Servei de Publicacions de la Universitat de València) i Rosa Toran (doctora en Història). \n–“El marc legal de la repressió de la dictadura franquista”\, per Marc Carrillo (catedràtic de Dret Constitucional de la Universitat Pompeu Fabra) \n  \nDijous 25 d’octubre \n–“Legislar sobre la memòria”\, amb Sonia Combe (Universitat de París)\, Eduard Tarnawski (Universitat de Varsòvia) i Simona Škrabec (escriptora). \n–“Record i oblit d’un passat de violència”\, amb Joan Garcés (advocat)\, Ramon Usall (Universitat de Lleida)\, Pasquale Chessa (vicedirector de Panorama) i Sandrine Lefranc (Universitat de París). \n–Conferència d’Aleš Debeljak (escriptor i poeta\, professor de la Universitat de Ljubljana) \n  \nDivendres 26 d’octubre \n–“La memòria en les imatges i en la literatura”\, amb Vicente Sánchez-Biosca (Universitat de València)\, Xavier Montanyà (periodista) i Javier Martí (director del Museu d’Història de València)
URL:https://octubre.cat/activitat/xiii-congres-de-pensament-entre-el-record-i-loblit-la-creacio-social-de-la-memoria/
LOCATION:No definit
CATEGORIES:Premis Octubre
ATTACH;FMTTYPE=image/jpeg:https://octubre.cat/www/wp-content/uploads/2020/07/premisoctubre1-1.jpg
END:VEVENT
END:VCALENDAR