BEGIN:VCALENDAR
VERSION:2.0
PRODID:-//Octubre Centre de Cultura Contemporània - ECPv5.1.6//NONSGML v1.0//EN
CALSCALE:GREGORIAN
METHOD:PUBLISH
X-WR-CALNAME:Octubre Centre de Cultura Contemporània
X-ORIGINAL-URL:https://octubre.cat
X-WR-CALDESC:Events for Octubre Centre de Cultura Contemporània
BEGIN:VTIMEZONE
TZID:Europe/Andorra
BEGIN:DAYLIGHT
TZOFFSETFROM:+0100
TZOFFSETTO:+0200
TZNAME:CEST
DTSTART:20200329T010000
END:DAYLIGHT
BEGIN:STANDARD
TZOFFSETFROM:+0200
TZOFFSETTO:+0100
TZNAME:CET
DTSTART:20201025T010000
END:STANDARD
END:VTIMEZONE
BEGIN:VEVENT
DTSTART;TZID=Europe/Andorra:20200220T190000
DTEND;TZID=Europe/Andorra:20200221T000000
DTSTAMP:20260423T023452
CREATED:20200729T191349Z
LAST-MODIFIED:20200729T191349Z
UID:13699-1582225200-1582243200@octubre.cat
SUMMARY:XI Humans Fest
DESCRIPTION:20 i 21 de febrer a les 19.00h. Secció Oficial de Curts Internacionals sobre Corrupció de la XI edició del Festival Internacional de Cinema i Drets Humans. Entrada lliure.	 \n  \n  \n\n 	 El Festival Internacional de Cinema i Drets Humans és un projecte de la Fundació per la Justícia coorganitzat amb altres entitats de la ciutat de València com CEAR\, Amnistia Internacional del País Valencià\, Associació ÀMBIT\, CVONGD\, València en Bici\, Acció Ecologista Agró\, Moviment Contra la Intolerància\, Lambda\, SJM\, Entreculturas…\, que ofereix un espai audiovisual únic per sensibilitzar en matèria de drets humans a la ciutat de València i en altres espais a nivell internacional. És un programa cultural clau per poder descobrir les darreres novetats internacionals del cinema documental\, al voltant dels drets humans i dels Objectius de Desenvolupament del Mil·leni.  PROGRAMACIÓ A L’OCTUBRE CCC:  Secció Oficial de Curts Internacionals sobre Corrupció  Dijous 20 de febrer a les 19.00h —Casa\, d’Alberto Evangelio (2019) —#Chiledespierta\, de Ricardo Ferreira O. (2019) —Free\, fair and fearless\, d’Aarti Bagdi (2019) —Where we belong: Returning to Nineveh plains\, de Maren Wickwire i Dario Bosio (2019) —Exiliada\, de Leonor Zúñiga (2019) Amb la presència d’Alberto Evangelio   Divendres 21 de febrer a les 19.00h —Please\, arrest me\, de Sameer Lukka (2019) —Maras\, de Salvador Calvo (2019) —Nuestra vida como niños refugiados\, de Silvia Venegas (2019) —Después de María\, de Nagore Eceiza (2019) —The hangman’s place\, de Julien Bertrand (2019) Amb la presència de Nagore Eceiza  — Organitzat per Humans Fest amb la col·laboració de l’Octubre CCC
URL:https://octubre.cat/activitat/xi-humans-fest/
LOCATION:Sala d’actes
CATEGORIES:Cinema
ATTACH;FMTTYPE=image/jpeg:https://octubre.cat/www/wp-content/uploads/2020/07/activitat3441.jpg
END:VEVENT
END:VCALENDAR