BEGIN:VCALENDAR
VERSION:2.0
PRODID:-//Octubre Centre de Cultura Contemporània - ECPv5.1.6//NONSGML v1.0//EN
CALSCALE:GREGORIAN
METHOD:PUBLISH
X-WR-CALNAME:Octubre Centre de Cultura Contemporània
X-ORIGINAL-URL:https://octubre.cat
X-WR-CALDESC:Events for Octubre Centre de Cultura Contemporània
BEGIN:VTIMEZONE
TZID:Europe/Andorra
BEGIN:DAYLIGHT
TZOFFSETFROM:+0100
TZOFFSETTO:+0200
TZNAME:CEST
DTSTART:20120325T010000
END:DAYLIGHT
BEGIN:STANDARD
TZOFFSETFROM:+0200
TZOFFSETTO:+0100
TZNAME:CET
DTSTART:20121028T010000
END:STANDARD
END:VTIMEZONE
BEGIN:VEVENT
DTSTART;TZID=Europe/Andorra:20121124T100000
DTEND;TZID=Europe/Andorra:20121124T100000
DTSTAMP:20260421T044921
CREATED:20200729T165854Z
LAST-MODIFIED:20200729T183948Z
UID:9438-1353751200-1353751200@octubre.cat
SUMMARY:Xerrada sobre dislèxia
DESCRIPTION:Dissabte 24 de novembre a les 10.00h. Organitzada per l’Associació Valenciana sobre Dislèxia  \n  \n  \n\nPrograma  10.00h: Introducció a càrrec de Manuel Escorial\, president d’AVADIS  10.15h: Conferència “Un passeig per la dislèxia”\, a càrrec de Vicent Prieto\, psicòleg del Servei Pisopedagògic Escolar V-10  11.15h: Descans  11.45h: Taula rodona amb Manuel Escorial\, Vicen Prieto i un soci AVADIS (família amb fill dislèxic)  12.45h: cloenda  Organitzat per l’Associació Valenciana per la Dislèxia (AVADIS)  Més informació i inscripcions a través d’aquest enllaç
URL:https://octubre.cat/activitat/xerrada-sobre-dislexia/
LOCATION:No definit
CATEGORIES:Conferències i congressos
ATTACH;FMTTYPE=image/jpeg:https://octubre.cat/www/wp-content/uploads/2020/07/conferencia1.jpg
END:VEVENT
END:VCALENDAR