BEGIN:VCALENDAR
VERSION:2.0
PRODID:-//Octubre Centre de Cultura Contemporània - ECPv5.1.6//NONSGML v1.0//EN
CALSCALE:GREGORIAN
METHOD:PUBLISH
X-WR-CALNAME:Octubre Centre de Cultura Contemporània
X-ORIGINAL-URL:https://octubre.cat
X-WR-CALDESC:Events for Octubre Centre de Cultura Contemporània
BEGIN:VTIMEZONE
TZID:Europe/Andorra
BEGIN:DAYLIGHT
TZOFFSETFROM:+0100
TZOFFSETTO:+0200
TZNAME:CEST
DTSTART:20190331T010000
END:DAYLIGHT
BEGIN:STANDARD
TZOFFSETFROM:+0200
TZOFFSETTO:+0100
TZNAME:CET
DTSTART:20191027T010000
END:STANDARD
END:VTIMEZONE
BEGIN:VEVENT
DTSTART;TZID=Europe/Andorra:20191017T190000
DTEND;TZID=Europe/Andorra:20191017T190000
DTSTAMP:20260420T205735
CREATED:20200729T173511Z
LAST-MODIFIED:20200729T191227Z
UID:11506-1571338800-1571338800@octubre.cat
SUMMARY:Xerrada "L’èxode rohingya"
DESCRIPTION:Dijous 17 d’octubre a les 19.00h. Organitzada per Metges Sense Fronteres en el marc de l’exposició del mateix títol.	 \n  \n  \n\n 	 En el marc de l’exposició ‘L’èxode rohingya’\, organitzada per Metges Sense Fronteres\, celebrarem una xerrada sobre la situació en què viu l’ètnia rohingya\, una de les poblacions més oblidades de l’actualitat.  Durant l’acte\, comptarem amb els testimonis de MSF: la coordinadora mèdica\, Montse Pubill\, i la responsable de recursos humans\, Ana Tomás\, que compartiran la seua experiència en el districte de Cox’s Bazar\, a Bangla Desh\, on més de 900.000 rohingyas malviuen en condicions d’amuntegament en assentaments precaris fets de canyes de bambú i plàstic.
URL:https://octubre.cat/activitat/xerrada-lexode-rohingya/
LOCATION:Sala d’actes
CATEGORIES:Conferències i congressos
ATTACH;FMTTYPE=image/jpeg:https://octubre.cat/www/wp-content/uploads/2020/07/activitat3341.jpg
END:VEVENT
END:VCALENDAR