BEGIN:VCALENDAR
VERSION:2.0
PRODID:-//Octubre Centre de Cultura Contemporània - ECPv5.1.6//NONSGML v1.0//EN
CALSCALE:GREGORIAN
METHOD:PUBLISH
X-WR-CALNAME:Octubre Centre de Cultura Contemporània
X-ORIGINAL-URL:https://octubre.cat
X-WR-CALDESC:Events for Octubre Centre de Cultura Contemporània
BEGIN:VTIMEZONE
TZID:Europe/Andorra
BEGIN:DAYLIGHT
TZOFFSETFROM:+0100
TZOFFSETTO:+0200
TZNAME:CEST
DTSTART:20190331T010000
END:DAYLIGHT
BEGIN:STANDARD
TZOFFSETFROM:+0200
TZOFFSETTO:+0100
TZNAME:CET
DTSTART:20191027T010000
END:STANDARD
END:VTIMEZONE
BEGIN:VEVENT
DTSTART;TZID=Europe/Andorra:20191114T180000
DTEND;TZID=Europe/Andorra:20191114T180000
DTSTAMP:20260422T042233
CREATED:20200729T173615Z
LAST-MODIFIED:20200729T191259Z
UID:11586-1573754400-1573754400@octubre.cat
SUMMARY:Xerrada ‘Famílies intel·ligents’
DESCRIPTION:Dijous 14 de novembre a les 18.00h. Amb el psicòleg Antonio Ortuño. Organitzat per Confederació Gonzalo Anaya i FAMPA València. Assistència per inscripció.	 \n  \n  \n\n 	 Claus pràctiques per a la parentalitat positiva.  A càrrec d’Antonio Ortuño\, psicòleg clínic especialitzat en infància i adolescència.  Organitzat per Confederació Gonzalo Anaya i FAMPA València Inscripcions: formacio@fampa-valencia.org o tel. 963739811
URL:https://octubre.cat/activitat/xerrada-families-intelligents/
LOCATION:Àtic
CATEGORIES:Conferències i congressos
ATTACH;FMTTYPE=image/jpeg:https://octubre.cat/www/wp-content/uploads/2020/07/activitat3382.jpg
END:VEVENT
END:VCALENDAR