BEGIN:VCALENDAR
VERSION:2.0
PRODID:-//Octubre Centre de Cultura Contemporània - ECPv5.1.6//NONSGML v1.0//EN
CALSCALE:GREGORIAN
METHOD:PUBLISH
X-WR-CALNAME:Octubre Centre de Cultura Contemporània
X-ORIGINAL-URL:https://octubre.cat
X-WR-CALDESC:Events for Octubre Centre de Cultura Contemporània
BEGIN:VTIMEZONE
TZID:Europe/Andorra
BEGIN:DAYLIGHT
TZOFFSETFROM:+0100
TZOFFSETTO:+0200
TZNAME:CEST
DTSTART:20160327T010000
END:DAYLIGHT
BEGIN:STANDARD
TZOFFSETFROM:+0200
TZOFFSETTO:+0100
TZNAME:CET
DTSTART:20161030T010000
END:STANDARD
END:VTIMEZONE
BEGIN:VEVENT
DTSTART;TZID=Europe/Andorra:20161125T200000
DTEND;TZID=Europe/Andorra:20161125T200000
DTSTAMP:20260420T225041
CREATED:20200729T172131Z
LAST-MODIFIED:20200729T185631Z
UID:10850-1480104000-1480104000@octubre.cat
SUMMARY:Xavi Lozano (Bufa & Sons)
DESCRIPTION:Divendres 25 de novembre a les 20.00h. Concert inclòs en el cicle Barcelona Escenari 2016. Entrades a 6 i 5 euros.  \n  \n  \n\n Tubs del món és una trobada musical en format de conferència-concert\, on els objectes quotidians que utilitzem en la nostra vida diària (una mànega\, una crossa\, un pòster enrotllat\, un bolígraf\, una escombra…) esdevenen insospitats instruments musicals gràcies a l’enginy de Xavi Lozano.  Xavi Lozano és un dels músics més carismàtics del panorama musical actual\, que dedica bona part de la seva tasca a la didàctica i pedagogia musical a partir d’objectes i materials reciclats. Ha col·laborat amb una inacabable llista de formacions i solistes com ara la Companyia Elèctrica Dharma\, Pau Riba\, Lluís Llach i Marina Rossell. Va ser presentador i assessor del programa d’educació musical L’Atrapa-sons\, del K3\, i ha col·laborat en molts altres programes de ràdio i televisió (No me la puc treure del cap\, Una mà de contes\, Col·leccionistes\, La Marató\, El Hormiguero\, Buenafuente\, Tot és molt confús…).  — Les entrades es venen només a taquilla el mateix dia del concert. Tot i això es pot fer una reserva telefònica per les vesprades al 96 315 77 99. Preu 6 € / socis d’ACPV 5 €  — Barcelona Escenari 2016 és un cicle musical organitzat per l’Octubre CCC amb el patrocini de l’Institut de Cultura de Barcelona Programació artística: Francesc Burgos (lacasacalba.org) Col·labora: Espai Octubre Concerts
URL:https://octubre.cat/activitat/xavi-lozano-bufa-sons/
CATEGORIES:Barcelona Escenari 2016 (música)
ATTACH;FMTTYPE=image/jpeg:https://octubre.cat/www/wp-content/uploads/2020/07/activitat2684.jpg
END:VEVENT
END:VCALENDAR