BEGIN:VCALENDAR
VERSION:2.0
PRODID:-//Octubre Centre de Cultura Contemporània - ECPv5.1.6//NONSGML v1.0//EN
CALSCALE:GREGORIAN
METHOD:PUBLISH
X-WR-CALNAME:Octubre Centre de Cultura Contemporània
X-ORIGINAL-URL:https://octubre.cat
X-WR-CALDESC:Events for Octubre Centre de Cultura Contemporània
BEGIN:VTIMEZONE
TZID:Europe/Andorra
BEGIN:DAYLIGHT
TZOFFSETFROM:+0100
TZOFFSETTO:+0200
TZNAME:CEST
DTSTART:20070325T010000
END:DAYLIGHT
BEGIN:STANDARD
TZOFFSETFROM:+0200
TZOFFSETTO:+0100
TZNAME:CET
DTSTART:20071028T010000
END:STANDARD
END:VTIMEZONE
BEGIN:VEVENT
DTSTART;TZID=Europe/Andorra:20071122T200000
DTEND;TZID=Europe/Andorra:20071122T200000
DTSTAMP:20260420T192140
CREATED:20200729T181547Z
LAST-MODIFIED:20200730T035514Z
UID:12395-1195761600-1195761600@octubre.cat
SUMMARY:Xabel Vegas i Las Uvas de la Ira
DESCRIPTION:Fins ara\, Xabel Vegas era el bateria de Manta Ray\, però acaba de debutar amb la seua pròpia banda\, Las Uvas de la Ira (John Álvarez\, Eva Diaz\, Eras Sánchez e Iker González)\, amb un CD titulat “Canciones sobre traiciones y mentiras”\, on dona eixida a les sues inquietuts rock i folk. Johnny Cash\, Leonard Cohen o Bob Dylan son els seus referents en un treball que posa especial cura en els textos i que el porta a València per primera vegada en solitari.  \n  \n  \n\nFins ara\, Xabel Vegas era el bateria de Manta Ray\, però acaba de debutar amb la seua pròpia banda\, Las Uvas de la Ira (John Álvarez\, Eva Diaz\, Eras Sánchez i Iker González)\, amb un CD titulat “Canciones sobre traiciones y mentiras”\, on dona eixida a les sues inquietuds rock i folk. Johnny Cash\, Leonard Cohen o Bob Dylan són els seus referents en un treball que posa especial cura en els textos i que el porta a València per primera vegada en solitari.
URL:https://octubre.cat/activitat/xabel-vegas-i-las-uvas-de-la-ira/
LOCATION:No definit
CATEGORIES:Cicle de música pop
ATTACH;FMTTYPE=image/jpeg:https://octubre.cat/www/wp-content/uploads/2020/07/musica1.jpg
END:VEVENT
END:VCALENDAR