BEGIN:VCALENDAR
VERSION:2.0
PRODID:-//Octubre Centre de Cultura Contemporània - ECPv5.1.6//NONSGML v1.0//EN
CALSCALE:GREGORIAN
METHOD:PUBLISH
X-WR-CALNAME:Octubre Centre de Cultura Contemporània
X-ORIGINAL-URL:https://octubre.cat
X-WR-CALDESC:Events for Octubre Centre de Cultura Contemporània
BEGIN:VTIMEZONE
TZID:Europe/Andorra
BEGIN:DAYLIGHT
TZOFFSETFROM:+0100
TZOFFSETTO:+0200
TZNAME:CEST
DTSTART:20190331T010000
END:DAYLIGHT
BEGIN:STANDARD
TZOFFSETFROM:+0200
TZOFFSETTO:+0100
TZNAME:CET
DTSTART:20191027T010000
END:STANDARD
END:VTIMEZONE
BEGIN:VEVENT
DTSTART;TZID=Europe/Andorra:20190522T190000
DTEND;TZID=Europe/Andorra:20190524T000000
DTSTAMP:20260421T103513
CREATED:20200729T173405Z
LAST-MODIFIED:20200729T191138Z
UID:11434-1558551600-1558656000@octubre.cat
SUMMARY:X Mostra Itinerant de Cinema i Vídeo Indígena
DESCRIPTION:Del 22 al 24 de maig\, a les 19.00h. Organitzat per Perifèries.	 \n  \n  \n\n 	 Dimecres 22 de maig Cossos i territoris —Sepur Zarco: la vida després de la sentència. Poble q’eqchi’. Guatemala. 3′ —Els que estan per nàixer. Poble mixe o ayuuk. Oaxaca\, Mèxic. 11′ —Minvament. Poble maia i mestís. Yucatán\, Mèxic. 18′ —Fins que l’avi sol continue brillant. Guatemala. 5′ —Dones amb càrrec. Poble nahua. Michoacán\, Mèxic. 5′  Tertúlia amb Lorena Cabnal\, poble maia-xinka (Guatemala)   Dijous 23 de maig Territoris\, lluites i resistències —Per a on es van anar les oronetes? Pobles kawaiweté\, waurá i yudja. Brasil. 22′ —La criminalització com a estratègia. Guatemala. 5′ —No tenim por. El Salvador. 22′  Tertúlia amb Maria Olga Coronado\, poble maia mam (Guatemala) i Marixela Ramos\, Radio Victoria (El Salvador)   Divendres 24 de maig Identitat\, cultura i comunicació —El conveni dels pobles originaris. Guatemala. 6′ —La comunicació dels pobles indígenes: un dret en construcció. Veus de l’Abya Yala. 29′ —Identitat. Comunitat Emberá\, Panamà. 4′  Tertúlia amb Mariano Estrada\, poble maia tzeltal (Mèxic)  — Organitzat per Perifèries
URL:https://octubre.cat/activitat/x-mostra-itinerant-de-cinema-i-video-indigena/
LOCATION:No definit
CATEGORIES:Cinema
ATTACH;FMTTYPE=image/jpeg:https://octubre.cat/www/wp-content/uploads/2020/07/activitat3279.jpg
END:VEVENT
END:VCALENDAR