BEGIN:VCALENDAR
VERSION:2.0
PRODID:-//Octubre Centre de Cultura Contemporània - ECPv5.1.6//NONSGML v1.0//EN
CALSCALE:GREGORIAN
METHOD:PUBLISH
X-WR-CALNAME:Octubre Centre de Cultura Contemporània
X-ORIGINAL-URL:https://octubre.cat
X-WR-CALDESC:Events for Octubre Centre de Cultura Contemporània
BEGIN:VTIMEZONE
TZID:Europe/Andorra
BEGIN:DAYLIGHT
TZOFFSETFROM:+0100
TZOFFSETTO:+0200
TZNAME:CEST
DTSTART:20080330T010000
END:DAYLIGHT
BEGIN:STANDARD
TZOFFSETFROM:+0200
TZOFFSETTO:+0100
TZNAME:CET
DTSTART:20081026T010000
END:STANDARD
END:VTIMEZONE
BEGIN:VEVENT
DTSTART;TZID=Europe/Andorra:20080220T000000
DTEND;TZID=Europe/Andorra:20080220T000000
DTSTAMP:20260420T181112
CREATED:20200729T181753Z
LAST-MODIFIED:20200730T035647Z
UID:12513-1203465600-1203465600@octubre.cat
SUMMARY:X Festival Premis Tirant
DESCRIPTION:Del 20 al 27 de febrer.  L’OCCC serà una de les seus del X Festival Premis Tirant.  Consulteu ací la programació.    \n  \n  \n\nDIMECRES 20 DE FEBRER   16.00 h. Secció oficial. Sèrie de ficció  ALTRA OPORTUNITAT\, de Juanjo Castro. 60’  17.05 h. Secció oficial. Doblatge al Valencià. Versió Valenciana  LA DAMA BOBA\, de Sonofilm Estudios SL. 138’  19.30 h. Secció oficial. Sèrie Documental  LES CARTOIXES VALENCIANES\, d’Oscar Monton. 25’ ELS TERRITORIS DE LA FICCIÓ\, d’Eduardo Guillot. 30’  20\,30 h.Secció Oficial. Videoclip  AND ALL MY EXISTENCE IN VAIN\, de  José Moral. 4’ EL GRAN CIRC DELS INVISIBLES\, de Josep Pitarch. 5’ MALOS TIEMPOS\, de Marta Giménez. 3’ PALABRAS\, de Gregorio Arroyo Sebastian. 4’ RAP A DIT\, de Tubal Perales i Manel Alcaide. 6’ QUÈ BO SER UN FREAK\, de Producciones La Hormiga. 4’ TU MUNDO\, de Juan Tormo. 4’54’’ RUMBA D’AMORE\,  de David Molina. 4’22’’ SIXTEEN STRINGS AND A BEAT\, de Joaquin Ruiz. 5’ LA CHISPA ADECUADA\, de José Manuel Blay. 5’02’’  22\,30 h.Secció Oficial. Doblatge al Valencià. Versió Valenciana. ALAN MOR AL FINAL DE LA PEL.LÍCULA\, de Xavier Manich. 85’  DIJOUS 21 DE FEBRER   16.00 h. Secció Oficial. Sèrie de ficció  MANIÀTICS\, de César Martí\, Carles Alberola i Paco Serrano. 50’ SOCARRATS\, de César Martí i Sergi Sanz. 20’ I EL DIUMENGE\, QUÈ?\, de Juan Ángel Gómez. 25’ KIM & CO\, de Giovanna Ribes. 26’   DIVENDRES 22 DE FEBRER   22.30 h. Secció Oficial. Doblatge al Valencià. Versió Valenciana LA TORRE DE BABEL\, de Giovanna Ribes. 90’  DISSABTE 23 DE FEBRER   16.00 h. Secció Oficial.Documental UNA TRADICIÓ SUBVERSIVA\, d’Alice Roth. 25’ MEMÒRIES DE TOSSALS\, de Pau Pascual Galbis. 25’ PACO CABANES ‘’EL GENOVÉS’’. EL DOCUMENTAL\, de Jorge Figueroa. 44’37’’ ASSALTANT EL PARADÍS\, de Josep Pitarch. 52’   19.00 h. Secció Oficial. Doblatge al Valencià. Versió Valenciana. LA VEU DE GABRIEL\, de José Enrique March. 100’  DILLUNS 25 DE FEBRER   16.00 h. Secció Oficial. Doblatge al Valencià CLIFFORD\, de Sonoequip S.A. 78’  17.30 h. Secció Oficial. Documental L’ALBUFERA. EL JARDÍ SALVATGE\, d’Eduardo Barrachina Albert. 30’ PER UNA VALL DIGNA\, de Santiago Estruch. 20’ 30’’ JOSÉ ESCRIHUELA. PENSAMENTS\, de Santiago Estruch. 17’38’’ UN FIL SENSE FI\, de Cesc Biosca. 23’ PEDRA PERDUDA\, de Patricio Ferrero. 11’  19.30 h. Secció Oficial. Doblatge al Valencià. Versió Valenciana. PACIENT 33\, de Silvia Quer. 90’  22.30 h. Secció Oficial. Versió Valenciana. LA VIDA ABISMAL\, de Ventura Pons. 90’  DIMARTS 26 DE FEBRER   18.00 h. Secció Oficial. Curmetratge en vídeo FEROZ\, d’Andrés Jerez. 10’ SOMNIK\, de Paco Gramaje. 6’ TARONJATTACK\, de La Terracita Rocax Films. 11’ ART. 5\, de Rubén S. Ferrer. 2’ BARLOVENTO\, d’Eduardo Casaña. 10’ KISS THE BRIDE\, de Pedro Barbero Abreu. 8’46’’ MANÍA\, de Víctor Suñer. 13’08’’  19\,00 h Secció Especial Paraguay EMUHNO (ORIGEN DEL MUNDO) d’Augusto Netto\, José Pedersen\, Rafael Kohan i Flavia Netto. 5’ LA FIESTA\, de Diego Volpe. 16’ PROFESIÓN CINERO\, d’Hugo Gamarra. 60’  20\,30. Secció Oficial. Videocreació  ÓSMOSIS\, de Luis Marco\, Antonio Pozuelo\, Alejandro Bello\, Sergio Viñuela i Cristina de Cos. 8’ DESCONCIERTO\, de Sonia Soler. 0\,02’’ NÁUSEA\, de Gerardo J. Núñez. 17’ MACRINA\, de Javier M. Tarín. 9’40’’ 1936 IN MEMORIAM\, de Samuel Sebastián. 10’ LA PAUSA\, de Samuel Sebastián. 1’ EN BABIA\, de Marisa Herráez. 2’10’’ ARRELS\, de Marisa Herráez. 2’19’’ SQUARED WOMB\, BLACK DREAM\, de Neus Torres Tamarit. 4’58’’  22.00 h. Secció Oficial. Curmetratge en vídeo NUNCA SABREMOS\, d’Ander Odriozola i Emilio Encabo. 12’ IRA\, de Luis R. Estudillo. 17’ TIRO DIRECTO\, d’Araceli Cabrera. 9’36’’ EL DESAMOR DE ANA\, de Javier Ros Ripoll. 12’ FRAGMENTO\, de Gerardo León. 13’ COLIFLOR CON BECHAMEL\, de Samuel Domingo i Jordi Pla. 6’33’’   DIMECRES 27 DE FEBRER   16.00 h. Secció Oficial. Sèrie Documental  EL MÓN DE XICUTEL\, de Charly Álvarez i Manuel Valencia. 30’ A QUÈ JUGUEM?\, d’Álex Crespo\, Josevi Marco\, Héctor Manteca\, Josep Bonet i Javi Fariña. 26’ MEDITERRÁNEO. SUB ll\, de Sebastián Hernandis. 26’ ELS SECRETS DE L’AIGUA\, de Miguel Ángel Beltrán. 26’ S’ESTILA!\, de César Martí i Alberto Abenza. 25’  18\,30. Secció Oficial. Versió Valenciana   ADRENALINA\, de Ricard Figueres i Josep Johnson Camí. 100’   20\,30. V Festival de Cinema Hispano Brasileiro   SOL DE AMÉM\, d’Ives Alburquerque. 15’ ERA UMA VEZ\, de Gisele Werneck\, Byron O´Neill i Guilherme Reis. 9’ VIDA MARIA\, de Márcio Ramos. 9’ O BRILHO DOS MEUS OLHOS\, d’Allan Ribeiro. 11’    Més informació a la web oficial dels premis.
URL:https://octubre.cat/activitat/x-festival-premis-tirant/
LOCATION:No definit
CATEGORIES:Cinema
ATTACH;FMTTYPE=image/jpeg:https://octubre.cat/www/wp-content/uploads/2020/07/cinema1.jpg
END:VEVENT
END:VCALENDAR