BEGIN:VCALENDAR
VERSION:2.0
PRODID:-//Octubre Centre de Cultura Contemporània - ECPv5.1.6//NONSGML v1.0//EN
CALSCALE:GREGORIAN
METHOD:PUBLISH
X-WR-CALNAME:Octubre Centre de Cultura Contemporània
X-ORIGINAL-URL:https://octubre.cat
X-WR-CALDESC:Events for Octubre Centre de Cultura Contemporània
BEGIN:VTIMEZONE
TZID:Europe/Andorra
BEGIN:DAYLIGHT
TZOFFSETFROM:+0100
TZOFFSETTO:+0200
TZNAME:CEST
DTSTART:20090329T010000
END:DAYLIGHT
BEGIN:STANDARD
TZOFFSETFROM:+0200
TZOFFSETTO:+0100
TZNAME:CET
DTSTART:20091025T010000
END:STANDARD
END:VTIMEZONE
BEGIN:VEVENT
DTSTART;TZID=Europe/Andorra:20090429T200000
DTEND;TZID=Europe/Andorra:20090429T200000
DTSTAMP:20260422T143616
CREATED:20200729T182402Z
LAST-MODIFIED:20200729T182402Z
UID:12798-1241035200-1241035200@octubre.cat
SUMMARY:Wreckless Eric & Amy Rigby
DESCRIPTION:Dimecres 29 d’abril\, a les 20.00h: Actuació de Wreckless Eric & Amy Rigby (Regne Unit)  \n  \n  \n\nWreckless Eric & Amy Rigby aterren al Regne Unit després d’una gira pels Estats Units que haruia acabat amb moltes bandes. El seu nou àlbum\, Wreckless Eric & Amy Rigby \, que s’ha guanyat l’aclamació unànime de la crítica als Estats Units\, està ja a la venda a través del revitalitzat segell Stiff Record.   El seu espectacle en directe és una meravella per a la contemplació –polit\, caòtic\, alt\, suau\, divertit\, emocionant\, llarg\, flegmàtic\, nostàlgic\, modern\, impressionant i energètic– de vegades tot dins una mateixa cançó. Amb Amy a la guitarra acústica\, l’elèctrica i els teclats\, i amb Eric a les guitarres i el baix\, aquesta banda de rock’n’roll en dues peces toca cançons tant del seu nou treball com èxits dels seus respectius repertoris personals i ocasionalment\, alguna versió inesperada.
URL:https://octubre.cat/activitat/wreckless-eric-amy-rigby/
LOCATION:No definit
CATEGORIES:Cicle de música pop
ATTACH;FMTTYPE=image/jpeg:https://octubre.cat/www/wp-content/uploads/2020/07/activitat825.jpg
END:VEVENT
END:VCALENDAR