BEGIN:VCALENDAR
VERSION:2.0
PRODID:-//Octubre Centre de Cultura Contemporània - ECPv5.1.6//NONSGML v1.0//EN
CALSCALE:GREGORIAN
METHOD:PUBLISH
X-WR-CALNAME:Octubre Centre de Cultura Contemporània
X-ORIGINAL-URL:https://octubre.cat
X-WR-CALDESC:Events for Octubre Centre de Cultura Contemporània
BEGIN:VTIMEZONE
TZID:Europe/Andorra
BEGIN:DAYLIGHT
TZOFFSETFROM:+0100
TZOFFSETTO:+0200
TZNAME:CEST
DTSTART:20160327T010000
END:DAYLIGHT
BEGIN:STANDARD
TZOFFSETFROM:+0200
TZOFFSETTO:+0100
TZNAME:CET
DTSTART:20161030T010000
END:STANDARD
END:VTIMEZONE
BEGIN:VEVENT
DTSTART;TZID=Europe/Andorra:20160608T150000
DTEND;TZID=Europe/Andorra:20160608T150000
DTSTAMP:20260422T001700
CREATED:20200729T171810Z
LAST-MODIFIED:20200729T185459Z
UID:10634-1465398000-1465398000@octubre.cat
SUMMARY:Workshop on Complex Sociotechnical Systems - A COMSOTEC & Sociocomplex meeting
DESCRIPTION:Dimecres 8 de juny. Sessió inaugural a partir de les 15.00h. Organitzat per l’Escola Tècnica Superior d’Enginyeria de la UV\, Comsotec & Sociocomplex\, amb la col·laboració de l’Octubre CCC.  \n  \n  \n\n El Congrés sobre Sistemes Complexos Sociotecnològics\, que se celebrarà a  València entre el 8 i el 10 de juny de 2016\, és un punt de trobada anual per als investigadors d’àrees com ara la física\, les matemàtiques\, les ciències socials\, l’economia i les TIC.  El congrés ofereix una oportunitat estimulant  de presentar i debatre els últims avanços teòrics i aplicats d’aquest camp  d’estudi multidisciplinari.  L’esdeveniment està organitzat per l’Escola Tècnica Superior d’Enginyeria de la Universitat de València (ETSE)\, l’Associació per  a  l’Estudi dels Sistemes Complexos Sociotecnològics (COMSOTEC) i la Xarxa d’Excel·lència SocioComplex (FIS2015-71795-REDT\, finançada pel Ministeri d’Economia i Competitivitat) i compta amb la col·laboració de l’Octubre CCC.  Més informació i inscripcions.
URL:https://octubre.cat/activitat/workshop-on-complex-sociotechnical-systems-a-comsotec-sociocomplex-meeting/
CATEGORIES:Conferències i congressos
ATTACH;FMTTYPE=image/jpeg:https://octubre.cat/www/wp-content/uploads/2020/07/activitat2566.jpg
END:VEVENT
END:VCALENDAR