BEGIN:VCALENDAR
VERSION:2.0
PRODID:-//Octubre Centre de Cultura Contemporània - ECPv5.1.6//NONSGML v1.0//EN
CALSCALE:GREGORIAN
METHOD:PUBLISH
X-WR-CALNAME:Octubre Centre de Cultura Contemporània
X-ORIGINAL-URL:https://octubre.cat
X-WR-CALDESC:Events for Octubre Centre de Cultura Contemporània
BEGIN:VTIMEZONE
TZID:Europe/Andorra
BEGIN:DAYLIGHT
TZOFFSETFROM:+0100
TZOFFSETTO:+0200
TZNAME:CEST
DTSTART:20080330T010000
END:DAYLIGHT
BEGIN:STANDARD
TZOFFSETFROM:+0200
TZOFFSETTO:+0100
TZNAME:CET
DTSTART:20081026T010000
END:STANDARD
END:VTIMEZONE
BEGIN:VEVENT
DTSTART;TZID=Europe/Andorra:20080426T190000
DTEND;TZID=Europe/Andorra:20080426T190000
DTSTAMP:20260421T054807
CREATED:20200729T181832Z
LAST-MODIFIED:20200730T035717Z
UID:12551-1209236400-1209236400@octubre.cat
SUMMARY:Workshop de la Red Bull Music Academy amb Patrick Pulsinger i Rubén García
DESCRIPTION:Workshop de la Red Bull Music Academy\, amb Patrick Pulsinger i Rubén García.  Organitza: Red Bull
URL:https://octubre.cat/activitat/workshop-de-la-red-bull-music-academy-amb-patrick-pulsinger-i-ruben-garcia/
LOCATION:No definit
CATEGORIES:Literatura
ATTACH;FMTTYPE=image/jpeg:https://octubre.cat/www/wp-content/uploads/2020/07/presentacions1.jpg
END:VEVENT
END:VCALENDAR