BEGIN:VCALENDAR
VERSION:2.0
PRODID:-//Octubre Centre de Cultura Contemporània - ECPv5.1.6//NONSGML v1.0//EN
CALSCALE:GREGORIAN
METHOD:PUBLISH
X-WR-CALNAME:Octubre Centre de Cultura Contemporània
X-ORIGINAL-URL:https://octubre.cat
X-WR-CALDESC:Events for Octubre Centre de Cultura Contemporània
BEGIN:VTIMEZONE
TZID:Europe/Andorra
BEGIN:DAYLIGHT
TZOFFSETFROM:+0100
TZOFFSETTO:+0200
TZNAME:CEST
DTSTART:20130331T010000
END:DAYLIGHT
BEGIN:STANDARD
TZOFFSETFROM:+0200
TZOFFSETTO:+0100
TZNAME:CET
DTSTART:20131027T010000
END:STANDARD
END:VTIMEZONE
BEGIN:VEVENT
DTSTART;TZID=Europe/Andorra:20130313T190000
DTEND;TZID=Europe/Andorra:20130313T190000
DTSTAMP:20260421T204843
CREATED:20200729T165942Z
LAST-MODIFIED:20200729T184033Z
UID:9486-1363201200-1363201200@octubre.cat
SUMMARY:Wallace\, un científic a l'ombra de Darwin
DESCRIPTION:Dimecres 13 de març a les 19.00h. Conferència a càrrec de Manuel Costa\, dins del cicle “La geografia de la vida. Als cent anys de la mort d’Alfred Russel Wallace” organitzat per l’Espai Ciència  \n  \n  \n\n Conferència a càrrec de Manuel Costa (Universitat de València)  Alfred Russel Wallace\, la persona i el científic\, serà l’objecte d’aquesta xerrada. Tindrem ocasió de recordar el seu caràcter viatger i les seues observacions biogeogràfiques i evolucionistes\, des dels seus orígens humils fins a la seua consagració com a científic i la seua relació amb Darwin.  Manuel Costa és Catedràtic Emèrit de Botànica de la Universitat de València. Ha  treballat\, sobretot\, en estudis sobre vegetació en diferents parts del món\, de l’Orinoco al Sàhara\, així com en biogeografia i bioclimatologia. Ha estat director del Jardí Botànic i vicerector de la Universitat de València.
URL:https://octubre.cat/activitat/wallace-un-cientific-a-lombra-de-darwin/
LOCATION:No definit
CATEGORIES:Espai Ciència
ATTACH;FMTTYPE=image/jpeg:https://octubre.cat/www/wp-content/uploads/2020/07/activitat1738.jpg
END:VEVENT
END:VCALENDAR