BEGIN:VCALENDAR
VERSION:2.0
PRODID:-//Octubre Centre de Cultura Contemporània - ECPv5.1.6//NONSGML v1.0//EN
CALSCALE:GREGORIAN
METHOD:PUBLISH
X-WR-CALNAME:Octubre Centre de Cultura Contemporània
X-ORIGINAL-URL:https://octubre.cat
X-WR-CALDESC:Events for Octubre Centre de Cultura Contemporània
BEGIN:VTIMEZONE
TZID:Europe/Andorra
BEGIN:DAYLIGHT
TZOFFSETFROM:+0100
TZOFFSETTO:+0200
TZNAME:CEST
DTSTART:20070325T010000
END:DAYLIGHT
BEGIN:STANDARD
TZOFFSETFROM:+0200
TZOFFSETTO:+0100
TZNAME:CET
DTSTART:20071028T010000
END:STANDARD
END:VTIMEZONE
BEGIN:VEVENT
DTSTART;TZID=Europe/Andorra:20071019T200000
DTEND;TZID=Europe/Andorra:20071019T200000
DTSTAMP:20260421T052908
CREATED:20200729T181517Z
LAST-MODIFIED:20200730T035451Z
UID:12365-1192824000-1192824000@octubre.cat
SUMMARY:Waky
DESCRIPTION:El proper 19 d’octubre Waky actuarà a l’OCCC a les 20 h. Sempre a l’escena de la música electrònica valenciana les seues projeccions giren al voltant de la figura de l’ésser humà\, introduint en l’espectador petites reflexions en forma de loop sobre ell\, la seua relació amb l’entorn i amb ell mateix.   \n  \n  \n\nSempre a l’escena de la música electrònica valenciana com a membre de la productora “beat”\, l’artista\, ja des dels seus inicis a l’any 2001\, va començar a realitzar els seus primers loops. Poc després va descobrir el Resolume\, que unia les seues dues grans passions\, la música i la imatge. Les seues projeccions giren al voltant de la figura de l’ésser humà\, introduint en l’espectador petites reflexions en forma de loop sobre ell\, la seua relació amb l’entorn i amb ell mateix.  Tant el seu bagatge en el món de la imatge amb la fotografia i el video com el seu antic contacte amb la música el va portar a aconseguir en la seua tercera actuació en directe como Vj el segon lloc en el 2n Meetting Nacional de Vj\,S en Le Club. Des d’aleshores ha actuat a locals com ara Latex\, Hot o Mogambo i a festivals Com Ivam Electra\, l’Eclèctic o Observatori. A més\, ha compartit escenari amb Dj\,s com Àngel Molina\, Miss Yetti\, Youngters Slam\, entre d’altres.  En aquesta ocasió\, Sergi Palau (Vj Waky) realitzarà el seu particular homenatge a dos dels més grans directors de la història del cinema que ens deixaren fa poc: Ingmar Bergman i Michelangelo Antonioni. Per tot açò ha escollit una sesió amb música original de Sais que acompanye la seua reinterpretació de les images d’algunes de les pel·lícules d’aquests afiliats analistes de l’ésser humà.
URL:https://octubre.cat/activitat/waky/
LOCATION:No definit
CATEGORIES:Cicle S0N1V1S10
ATTACH;FMTTYPE=image/jpeg:https://octubre.cat/www/wp-content/uploads/2020/07/activitat336.jpg
END:VEVENT
END:VCALENDAR