BEGIN:VCALENDAR
VERSION:2.0
PRODID:-//Octubre Centre de Cultura Contemporània - ECPv5.1.6//NONSGML v1.0//EN
CALSCALE:GREGORIAN
METHOD:PUBLISH
X-WR-CALNAME:Octubre Centre de Cultura Contemporània
X-ORIGINAL-URL:https://octubre.cat
X-WR-CALDESC:Events for Octubre Centre de Cultura Contemporània
BEGIN:VTIMEZONE
TZID:Europe/Andorra
BEGIN:DAYLIGHT
TZOFFSETFROM:+0100
TZOFFSETTO:+0200
TZNAME:CEST
DTSTART:20080330T010000
END:DAYLIGHT
BEGIN:STANDARD
TZOFFSETFROM:+0200
TZOFFSETTO:+0100
TZNAME:CET
DTSTART:20081026T010000
END:STANDARD
END:VTIMEZONE
BEGIN:VEVENT
DTSTART;TZID=Europe/Andorra:20081127T200000
DTEND;TZID=Europe/Andorra:20081127T200000
DTSTAMP:20260420T211501
CREATED:20200729T182017Z
LAST-MODIFIED:20200730T035833Z
UID:12657-1227816000-1227816000@octubre.cat
SUMMARY:Wagner Pa
DESCRIPTION:Dijous 27 de novembre a les 20.00h Cicle de música pop: Wagner Pa  \n  \n  \n\nWagner Pa: fusió tropical / Brasil – Barcelona  Wagner Pa és un activista musical. Als 20 anys va arribar a Barcelona per a quedar-se\, i durant tot aquest temps ha fet de punxadiscos\, promotor de concerts i finalment també de músic. Incialment amb el grup Brazuca Matraca i ara ja en solitari. També ha col·laborat amb altres artistes com Fermin Muguruza\, Dusminguet o Macaco. Amb tres àlbums al mercat\, ara està preparant un nou treball amb una sonoritat més acústica\, més tropicalista. I és amb aquesta formació de percussió (Sandro Lustosa) i guitarra (Cesc Pasqual)\, junt amb la flauta travessera del propi Wagner Pa\, que es presentaran a l’Octubre.
URL:https://octubre.cat/activitat/wagner-pa/
LOCATION:No definit
CATEGORIES:Cicle de música pop
ATTACH;FMTTYPE=image/jpeg:https://octubre.cat/www/wp-content/uploads/2020/07/activitat672.jpg
END:VEVENT
END:VCALENDAR