BEGIN:VCALENDAR
VERSION:2.0
PRODID:-//Octubre Centre de Cultura Contemporània - ECPv5.1.6//NONSGML v1.0//EN
CALSCALE:GREGORIAN
METHOD:PUBLISH
X-WR-CALNAME:Octubre Centre de Cultura Contemporània
X-ORIGINAL-URL:https://octubre.cat
X-WR-CALDESC:Events for Octubre Centre de Cultura Contemporània
BEGIN:VTIMEZONE
TZID:Europe/Andorra
BEGIN:DAYLIGHT
TZOFFSETFROM:+0100
TZOFFSETTO:+0200
TZNAME:CEST
DTSTART:20100328T010000
END:DAYLIGHT
BEGIN:STANDARD
TZOFFSETFROM:+0200
TZOFFSETTO:+0100
TZNAME:CET
DTSTART:20101031T010000
END:STANDARD
END:VTIMEZONE
BEGIN:VEVENT
DTSTART;TZID=Europe/Andorra:20100131T190000
DTEND;TZID=Europe/Andorra:20100131T190000
DTSTAMP:20260421T020250
CREATED:20200729T164655Z
LAST-MODIFIED:20200729T182734Z
UID:8695-1264964400-1264964400@octubre.cat
SUMMARY:Voro Garcia Quartet
DESCRIPTION:Diumenge 31 de gener\, a les 19.00h: Voro Garcia Quartet (Barcelona).   \n  \n  \n\nAquest quartet es forma a Begues\, un petit poble de les muntanyes no gaire lluny de Barcelona\, on resideixen en comunitat alguns dels músics més actius i de major projecció de l’escena del jazz estatal.El repertori està basat en el grup de Sonny Rollins amb Don Cherry\, Henry Grimes i Billy Higgins\, de l’any 1963\, una banda mítica en la seua època i alhora poc coneguda per les seues innovadores tendències a la improvisació i conceptuals.   Voro Garcia (València 1978) es va graduar magna cum laude al Berklee College of Music i des de llavors\, ha col·laborat en nombrosos projectes i ha actuat en països com Mèxic\, Filipines\, els Estats Units i bona part d’Europa. Alguns dels músics amb qui ha treballat són Perico Sambeat\, Javier Colina\, Albert Sanz\, Bob Gullotti o Terry Line Carrington.   Formació:  Voro Garcia\, trompeta / Enrique Oliver\, saxo tenor Dee Jay Foster\, contrabaix / Joe Smith\, bateria
URL:https://octubre.cat/activitat/voro-garcia-quartet/
LOCATION:No definit
CATEGORIES:Diumenges de Jazz!
ATTACH;FMTTYPE=image/jpeg:https://octubre.cat/www/wp-content/uploads/2020/07/activitat1039.jpg
END:VEVENT
END:VCALENDAR