BEGIN:VCALENDAR
VERSION:2.0
PRODID:-//Octubre Centre de Cultura Contemporània - ECPv5.1.6//NONSGML v1.0//EN
CALSCALE:GREGORIAN
METHOD:PUBLISH
X-WR-CALNAME:Octubre Centre de Cultura Contemporània
X-ORIGINAL-URL:https://octubre.cat
X-WR-CALDESC:Events for Octubre Centre de Cultura Contemporània
BEGIN:VTIMEZONE
TZID:Europe/Andorra
BEGIN:DAYLIGHT
TZOFFSETFROM:+0100
TZOFFSETTO:+0200
TZNAME:CEST
DTSTART:20240331T010000
END:DAYLIGHT
BEGIN:STANDARD
TZOFFSETFROM:+0200
TZOFFSETTO:+0100
TZNAME:CET
DTSTART:20241027T010000
END:STANDARD
END:VTIMEZONE
BEGIN:VEVENT
DTSTART;TZID=Europe/Andorra:20240302T190000
DTEND;TZID=Europe/Andorra:20240302T190000
DTSTAMP:20260421T134600
CREATED:20240215T103224Z
LAST-MODIFIED:20250710T162643Z
UID:20957-1709406000-1709406000@octubre.cat
SUMMARY:Vociferio 2024 – Festival de Poesia de València
DESCRIPTION:Vociferio\, XIII Festival de Poesia de València\, se celebra del 3 de febrer al 3 de març de 2024 a diverses ubicacions de la ciutat de València (Teatre el Musical\, Carme Teatre\, Artea Lab\, Ateneu Llibertari Al Margen\, La Libre i Kaf Kafé). \nL’Octubre CCC acull la següent programació el dissabte 2 de març de 2024: \n19:00 h. “La perdició del jovent. Homenatge a Estellés”.\nTres de les trenta veus de l’antologia de joves poetes El que ens ve damunt amb Victoria Avinyó\, Aina García-Carbó i Borja Puchol Forés. \n20:00 h. “Fites” de Marina Tsvetàieva\, amb les traduccions de Laia Malo i els paisatges sonors de Jaume Reus. \nENTRADA GRATUÏTA FINS A COMPLETAR AFORAMENT. \n  \n \n—\nOrganitzat pel festival Vociferio amb la col·laboració de l’Octubre CCC
URL:https://octubre.cat/activitat/vociferio-2024-festival-de-poesia-de-valencia/
LOCATION:Sala d’actes
CATEGORIES:Cent d'Estellés,Literatura
ATTACH;FMTTYPE=image/jpeg:https://octubre.cat/www/wp-content/uploads/2024/02/vociferio24-cap.jpg
END:VEVENT
END:VCALENDAR