BEGIN:VCALENDAR
VERSION:2.0
PRODID:-//Octubre Centre de Cultura Contemporània - ECPv5.1.6//NONSGML v1.0//EN
CALSCALE:GREGORIAN
METHOD:PUBLISH
X-WR-CALNAME:Octubre Centre de Cultura Contemporània
X-ORIGINAL-URL:https://octubre.cat
X-WR-CALDESC:Events for Octubre Centre de Cultura Contemporània
BEGIN:VTIMEZONE
TZID:Europe/Andorra
BEGIN:DAYLIGHT
TZOFFSETFROM:+0100
TZOFFSETTO:+0200
TZNAME:CEST
DTSTART:20170326T010000
END:DAYLIGHT
BEGIN:STANDARD
TZOFFSETFROM:+0200
TZOFFSETTO:+0100
TZNAME:CET
DTSTART:20171029T010000
END:STANDARD
END:VTIMEZONE
BEGIN:VEVENT
DTSTART;TZID=Europe/Andorra:20170505T180000
DTEND;TZID=Europe/Andorra:20170512T000000
DTSTAMP:20260421T160811
CREATED:20200729T172540Z
LAST-MODIFIED:20200729T185819Z
UID:11118-1494007200-1494547200@octubre.cat
SUMMARY:VLCNegra 2017
DESCRIPTION:5\, 11 i 12 de maig. Taller “Bales en escena: teatre en negre” impartit per Gabriel Ochoa. Activitat inclosa en VLCNegra\, Festival de Gènere Negre de València.  \n  \n  \n\n Un any més\, l’Octubre CCC col·labora amb VLCNegra\, 5é Festival de Gènere Negre que tindrà lloc del 5 al 14 de maig a diversos llocs de la ciutat de València.  Enguany ho fem acollint la celebració del Taller “Bales en escena: teatre en negre” que imparteix el dramaturg Gabriel Ochoa. Constarà de tres sessions que tindran lloc els dies divendres 5 de maig\, dijous 11 de maig i divendres 12 de maig\, en horari de 18.00h a 21.00h. L’assistència és limitada amb inscripció prèvia (50€).  En el taller es pretén que els participants escriguen per a l’escena amb una pistola a la nuca. Per tal de fer-ho possible\, se’ls proporcionaran eines teòriques\, exercicis i exemples clàssics i contemporanis (Shakespeare\, Hammett\, Sam Sheppard\, etc.).  Informació i inscripcions a info@valencianegra.com
URL:https://octubre.cat/activitat/vlcnegra-2017/
LOCATION:Àtic
CATEGORIES:Conferències i congressos
ATTACH;FMTTYPE=image/jpeg:https://octubre.cat/www/wp-content/uploads/2020/07/activitat2819.jpg
END:VEVENT
END:VCALENDAR