BEGIN:VCALENDAR
VERSION:2.0
PRODID:-//Octubre Centre de Cultura Contemporània - ECPv5.1.6//NONSGML v1.0//EN
CALSCALE:GREGORIAN
METHOD:PUBLISH
X-WR-CALNAME:Octubre Centre de Cultura Contemporània
X-ORIGINAL-URL:https://octubre.cat
X-WR-CALDESC:Events for Octubre Centre de Cultura Contemporània
BEGIN:VTIMEZONE
TZID:Europe/Andorra
BEGIN:DAYLIGHT
TZOFFSETFROM:+0100
TZOFFSETTO:+0200
TZNAME:CEST
DTSTART:20160327T010000
END:DAYLIGHT
BEGIN:STANDARD
TZOFFSETFROM:+0200
TZOFFSETTO:+0100
TZNAME:CET
DTSTART:20161030T010000
END:STANDARD
END:VTIMEZONE
BEGIN:VEVENT
DTSTART;TZID=Europe/Andorra:20160506T190000
DTEND;TZID=Europe/Andorra:20160506T190000
DTSTAMP:20260421T151607
CREATED:20200729T171827Z
LAST-MODIFIED:20200729T185506Z
UID:10652-1462561200-1462561200@octubre.cat
SUMMARY:VLCnegra 2016
DESCRIPTION:4rt Festival de Gènere Negre de València. Del 6 al 15 de maig. Les activitats a l’Octubre CCC seran el dimarts 10 i el dijous 12 de maig.  \n  \n  \n\n 4rt Festival de Gènere Negre de València Del 6 al 15 de maig.  Per segon any\, l’Octubre CCC i la llibreria 3i4 se sumen a la celebració del festival VLCnegra amb activitats relacionades tant amb la literatura com amb el cinema. A banda de les conferències i taules rodones\, també serà l’Octubre CCC la seu on es lliurarà el premi del III Certamen de Curts #60EnNegro.  Activitats que es realitzen a l’Octubre CCC:  Dimarts 10 de maig  19:00h. 30 Aniversari Edicions Bromera Amb Anna Moner i Silvestre Vilaplana. Presenta: Xavier Aliaga. Celebrarem com mereix els 30 anys d’una gran editorial.  20:00h. “Més enllà de l’excel·lència. La novel·la negra a casa nostra” Amb Salvador Company\, Jordi de Manuel i Josep Lluís Roig. Presenta: Sebastià Bennasar. La novel·la escrita en la nostra llengua. Debatrem què és i a on va.    Dijous 12 de maig  19:00h. “Introducció al cinema Polar Francès” Amb Daniel Gascó Com a suport al cicle de cinema\, en la xarrada definirem aquest subgènere del cinema nascut a França i la seua relació amb la literatura noir.  20:00h. “Thriller o l’art de la incertesa” Amb Rodrigo Cortés. Presenta: Pau Gómez Alfred Hitchcock va seure las bases del suspense des del cinema i la televisió: discutirem la seua influència en las pel·lícules i sèries que han marcat la trajectòria del gènere.  21:00h. Projecció dels finalistes i lliurament del premi #60EnNegro. Procedirem a projectar els cinc finalistes del nostre concurs de curtmetratges i a desvetlar el guanyador.   Consulta el programa complet a la web del festival VLCnegra.
URL:https://octubre.cat/activitat/vlcnegra-2016/
LOCATION:No definit
CATEGORIES:Conferències i congressos
ATTACH;FMTTYPE=image/jpeg:https://octubre.cat/www/wp-content/uploads/2020/07/activitat2575.jpg
END:VEVENT
END:VCALENDAR