BEGIN:VCALENDAR
VERSION:2.0
PRODID:-//Octubre Centre de Cultura Contemporània - ECPv5.1.6//NONSGML v1.0//EN
CALSCALE:GREGORIAN
METHOD:PUBLISH
X-WR-CALNAME:Octubre Centre de Cultura Contemporània
X-ORIGINAL-URL:https://octubre.cat
X-WR-CALDESC:Events for Octubre Centre de Cultura Contemporània
BEGIN:VTIMEZONE
TZID:Europe/Andorra
BEGIN:DAYLIGHT
TZOFFSETFROM:+0100
TZOFFSETTO:+0200
TZNAME:CEST
DTSTART:20080330T010000
END:DAYLIGHT
BEGIN:STANDARD
TZOFFSETFROM:+0200
TZOFFSETTO:+0100
TZNAME:CET
DTSTART:20081026T010000
END:STANDARD
END:VTIMEZONE
BEGIN:VEVENT
DTSTART;TZID=Europe/Andorra:20080411T200000
DTEND;TZID=Europe/Andorra:20080411T200000
DTSTAMP:20260420T234755
CREATED:20200729T181824Z
LAST-MODIFIED:20200730T035711Z
UID:12543-1207944000-1207944000@octubre.cat
SUMMARY:VLCG Visual System (Alcoi)
DESCRIPTION:Divendres 11\, 20.00h. Decorador interiorista i Video Jokey\, es dedica a dues professions brutals; d’una banda amb la imatge de les cases dels altres\, decorant-les i deixant-les esteticament millor; d’altra la de vj\, un intent que les visuals no siguen només un element decoratiu\, sinó que siguen quelcom que\, almenys\, no deixe indiferent ningú.     \n  \n  \n\nDecorador interiorista i Video Jokey\, VLCG Visual System es dedica a dues professions brutals; d’una banda amb la imatge de les cases dels altres\, decorant-les i deixant-les esteticament millor; d’altra la de vj\, un intent que les visuals no siguen només un element decoratiu\, sinó que siguen quelcom que\, almenys\, no deixe indiferent ningú. Per a això empra  imatges que facen mirar la pantalla encara que siga durant 2 minuts seguits.
URL:https://octubre.cat/activitat/vlcg-visual-system-alcoi/
LOCATION:No definit
CATEGORIES:Cicle S0N1V1S10
ATTACH;FMTTYPE=image/jpeg:https://octubre.cat/www/wp-content/uploads/2020/07/artvisual1.jpg
END:VEVENT
END:VCALENDAR