BEGIN:VCALENDAR
VERSION:2.0
PRODID:-//Octubre Centre de Cultura Contemporània - ECPv5.1.6//NONSGML v1.0//EN
CALSCALE:GREGORIAN
METHOD:PUBLISH
X-WR-CALNAME:Octubre Centre de Cultura Contemporània
X-ORIGINAL-URL:https://octubre.cat
X-WR-CALDESC:Events for Octubre Centre de Cultura Contemporània
BEGIN:VTIMEZONE
TZID:Europe/Andorra
BEGIN:DAYLIGHT
TZOFFSETFROM:+0100
TZOFFSETTO:+0200
TZNAME:CEST
DTSTART:20100328T010000
END:DAYLIGHT
BEGIN:STANDARD
TZOFFSETFROM:+0200
TZOFFSETTO:+0100
TZNAME:CET
DTSTART:20101031T010000
END:STANDARD
END:VTIMEZONE
BEGIN:VEVENT
DTSTART;TZID=Europe/Andorra:20100112T200000
DTEND;TZID=Europe/Andorra:20100112T200000
DTSTAMP:20260420T141830
CREATED:20200729T164644Z
LAST-MODIFIED:20200729T182725Z
UID:8684-1263326400-1263326400@octubre.cat
SUMMARY:Vj Otu
DESCRIPTION:Dimarts 12 de gener\, a les 20.00h: Vj Otu (Barcelona).   \n  \n  \n\nÓscar Testón\, a.k.a. Otu\, va començar a treballar com a videojòquei allà per l’any 2000\, quan va arribar a Madrid i li van proposar fer projeccions en un parell de macrosales de la ciutat. Després d’uns anys\, es va cansar perquè no es tractava de projeccions artístiques i llavors va començar a treballar en sessions que transmeteren quelcom. Els seus enregistraments es basen en la realitat quotidiana\, surt al carrer\, grava i aquest és el material que utilitza per a les sessions. Fragmenta en pedaços\, els barreja i crea una història\, una història pròpia.   Otu és\, a més\, desenvolupador i creador del fòrum estatal més important entorn de la cultura vj: Vjspain.com. En actiu des de desembre de 2004\, s’ha convertit en el fòrum de referència en llengua castellana\, amb esdeveniments\, notícies\, vincles interessants\, resolució de dubtes i altres moltes coses relacionades amb el món del vjing.
URL:https://octubre.cat/activitat/vj-otu/
LOCATION:No definit
CATEGORIES:Cicle S0N1V1S10
ATTACH;FMTTYPE=image/jpeg:https://octubre.cat/www/wp-content/uploads/2020/07/activitat1028.jpg
END:VEVENT
END:VCALENDAR