BEGIN:VCALENDAR
VERSION:2.0
PRODID:-//Octubre Centre de Cultura Contemporània - ECPv5.1.6//NONSGML v1.0//EN
CALSCALE:GREGORIAN
METHOD:PUBLISH
X-WR-CALNAME:Octubre Centre de Cultura Contemporània
X-ORIGINAL-URL:https://octubre.cat
X-WR-CALDESC:Events for Octubre Centre de Cultura Contemporània
BEGIN:VTIMEZONE
TZID:Europe/Andorra
BEGIN:DAYLIGHT
TZOFFSETFROM:+0100
TZOFFSETTO:+0200
TZNAME:CEST
DTSTART:20200329T010000
END:DAYLIGHT
BEGIN:STANDARD
TZOFFSETFROM:+0200
TZOFFSETTO:+0100
TZNAME:CET
DTSTART:20201025T010000
END:STANDARD
END:VTIMEZONE
BEGIN:VEVENT
DTSTART;TZID=Europe/Andorra:20200307T000000
DTEND;TZID=Europe/Andorra:20200307T000000
DTSTAMP:20260421T072443
CREATED:20200729T191356Z
LAST-MODIFIED:20200729T191356Z
UID:13707-1583539200-1583539200@octubre.cat
SUMMARY:Visites guiades a l’exposició 20 ESPEJOS SUCEDEN
DESCRIPTION:Consulteu les possibilitats de realitzar una visita guiada a càrrec dels autors\, Alfonso Legaz i Andrea Garay.	 \n  \n  \n\n 	 Els autors de l’exposició 20 ESPEJOS SUCEDEN\, Andrea Garay i Alfonso Legaz\, realitzaran durant febrer dues visites guiades (d’una hora de durada aproximadament) els següents dies:  –Dijous 20 de febrer a les 12.00h –Dijous 27 de febrer a les 19.00h  L’assistència és gratuïta però cal inscriure’s amb antelació a través del correu info@octubre.cat\, indicant-hi la data escollida i fent constar en l’assumpte del missatge “visita a l’exposició”.
URL:https://octubre.cat/activitat/visites-guiades-a-lexposicio-20-espejos-suceden/
LOCATION:No definit
CATEGORIES:Exposicions
ATTACH;FMTTYPE=image/jpeg:https://octubre.cat/www/wp-content/uploads/2020/07/activitat3451.jpg
END:VEVENT
END:VCALENDAR