BEGIN:VCALENDAR
VERSION:2.0
PRODID:-//Octubre Centre de Cultura Contemporània - ECPv5.1.6//NONSGML v1.0//EN
CALSCALE:GREGORIAN
METHOD:PUBLISH
X-WR-CALNAME:Octubre Centre de Cultura Contemporània
X-ORIGINAL-URL:https://octubre.cat
X-WR-CALDESC:Events for Octubre Centre de Cultura Contemporània
BEGIN:VTIMEZONE
TZID:Europe/Andorra
BEGIN:DAYLIGHT
TZOFFSETFROM:+0100
TZOFFSETTO:+0200
TZNAME:CEST
DTSTART:20260329T010000
END:DAYLIGHT
BEGIN:STANDARD
TZOFFSETFROM:+0200
TZOFFSETTO:+0100
TZNAME:CET
DTSTART:20261025T010000
END:STANDARD
END:VTIMEZONE
BEGIN:VEVENT
DTSTART;TZID=Europe/Andorra:20260512T180000
DTEND;TZID=Europe/Andorra:20260512T180000
DTSTAMP:20260421T212058
CREATED:20260421T154734Z
LAST-MODIFIED:20260421T154734Z
UID:25272-1778608800-1778608800@octubre.cat
SUMMARY:Visita guiada a l’exposició «En el centenari de Vicent Gómez García (1926-2026). Diàlegs»
DESCRIPTION:Visita guiada a l’exposició «En el centenari de Vicent Gómez García (1926-2026). Diàlegs». \nLa visita anirà a càrrec de l’artista Josep-Marí Gómez Lozano. \nPer assistir-hi cal que envieu un correu a info@octubre.cat indicant les vostres dades: nom\, telèfon i nombre de participants. En l’assumpte del missatge feu constar el text “Visita exposició”. Confirmarem la inscripció amb antelació suficient. \nPLACES LIMITADES
URL:https://octubre.cat/activitat/visita-guiada-a-lexposicio-en-el-centenari-de-vicent-gomez-garcia-1926-2026-dialegs-2/
LOCATION:Sala d’exposicions
CATEGORIES:Exposicions
ATTACH;FMTTYPE=image/jpeg:https://octubre.cat/www/wp-content/uploads/2026/04/Abstraccio-geometrica-Serie-III-2000-2012-de-Vicent-Gomez-Garcia-scaled.jpg
END:VEVENT
END:VCALENDAR