BEGIN:VCALENDAR
VERSION:2.0
PRODID:-//Octubre Centre de Cultura Contemporània - ECPv5.1.6//NONSGML v1.0//EN
CALSCALE:GREGORIAN
METHOD:PUBLISH
X-WR-CALNAME:Octubre Centre de Cultura Contemporània
X-ORIGINAL-URL:https://octubre.cat
X-WR-CALDESC:Events for Octubre Centre de Cultura Contemporània
BEGIN:VTIMEZONE
TZID:Europe/Andorra
BEGIN:DAYLIGHT
TZOFFSETFROM:+0100
TZOFFSETTO:+0200
TZNAME:CEST
DTSTART:20160327T010000
END:DAYLIGHT
BEGIN:STANDARD
TZOFFSETFROM:+0200
TZOFFSETTO:+0100
TZNAME:CET
DTSTART:20161030T010000
END:STANDARD
END:VTIMEZONE
BEGIN:VEVENT
DTSTART;TZID=Europe/Andorra:20160430T100000
DTEND;TZID=Europe/Andorra:20160430T100000
DTSTAMP:20260421T151823
CREATED:20200729T171751Z
LAST-MODIFIED:20200729T185450Z
UID:10614-1462010400-1462010400@octubre.cat
SUMMARY:Viquimarató de Biologia
DESCRIPTION:Dissabte 30 d’abril a partir de les 10.00h del matí.  Introducció a l’edició de la Viquipèdia i viquimarató.  \n  \n  \n\n Programa:  10.00h. Sessió: Introducció a l’edició de la Viquipèdia enfocada als científics 10.30h. Estudi de l’estat de la biologia a la Viquipèdia\, pluja d’idees\, grups\, viquimarató. 11.30h. Descans 12.00h. “Ciència oberta” a càrrec de Miquel Duran (@miquelduran) 13.00h. Dinar\, temps lliure\, viquimarató 14.00h. Sessió: Projectes germans de la Viquipèdia (Wikidata i Commons) 14.30h. “Recursos en Terminologia Científica”\, a càrrec de Francesc Esteve 15.00h. Viquimarató 18.00h. Posada en comú i comiat  Més informació i inscripcions  Organitzen: Institut d’Estudis Catalans\, Societat Catalana de Biologia\, Acció Cultural del País Valencià\, Amical Wikipedia\, Càtedra de Divulgació de la Ciència de la UV  Hi col·laboren: Servei de Política Lingüística de la UV\, DoCiència\, Escola Tècnica Superior d’Enginyeria de la UV\, Facultat de Ciències Biològiques de la UV\, Delegació per a la Incorporació a la Universitat-UV
URL:https://octubre.cat/activitat/viquimarato-de-biologia/
CATEGORIES:Conferències i congressos
ATTACH;FMTTYPE=image/jpeg:https://octubre.cat/www/wp-content/uploads/2020/07/activitat2556.jpg
END:VEVENT
END:VCALENDAR