BEGIN:VCALENDAR
VERSION:2.0
PRODID:-//Octubre Centre de Cultura Contemporània - ECPv5.1.6//NONSGML v1.0//EN
CALSCALE:GREGORIAN
METHOD:PUBLISH
X-WR-CALNAME:Octubre Centre de Cultura Contemporània
X-ORIGINAL-URL:https://octubre.cat
X-WR-CALDESC:Events for Octubre Centre de Cultura Contemporània
BEGIN:VTIMEZONE
TZID:Europe/Andorra
BEGIN:DAYLIGHT
TZOFFSETFROM:+0100
TZOFFSETTO:+0200
TZNAME:CEST
DTSTART:20140330T010000
END:DAYLIGHT
BEGIN:STANDARD
TZOFFSETFROM:+0200
TZOFFSETTO:+0100
TZNAME:CET
DTSTART:20141026T010000
END:STANDARD
END:VTIMEZONE
BEGIN:VEVENT
DTSTART;TZID=Europe/Andorra:20141028T183000
DTEND;TZID=Europe/Andorra:20141028T183000
DTSTAMP:20260421T072343
CREATED:20200729T170636Z
LAST-MODIFIED:20200730T041222Z
UID:9892-1414521000-1414521000@octubre.cat
SUMMARY:'Vindicación'\, de Susana Koska
DESCRIPTION:Dimarts 28 d’octubre a les 18.30h. La projecció serà seguida d’un debat organitzat per Diàlegs Feministes de València  \n  \n  \n\n “En el carrer es conjuga el verb vindicar” va ser una de les consignes del moviment feminista dels anys 70. Vindicación explora allò personal i sobre allò polític\, la insubmissió civil i la militància política\, sobre allò femení i sobre allò feminista. Vindicación es una mirada personal a la història política de les dones dels darrers anys del segle XX  Durada: 60’ V.O. en castellà Guió i direcció: Susana Koska Protagonistes: Carmen Alcalde\, Antonina Rodrigo\, Manuela de Madre\, Sonia Ruiz\, Montserrat Fernández Garrido\, Mabel Cañada\, Carme Freixa\, Mertxe Agúndez BSO: Mari Trini\, Gabriel Sopeña\, Loquillo  La projecció serà seguida pel debat “Vindicacions\, alegries i rebel·lies feministes: aliances i pactes per a l’acció política”\, organitzat per Debats Feministes de València
URL:https://octubre.cat/activitat/vindicacion-de-susana-koska/
LOCATION:Sala d’actes
CATEGORIES:Cinema
ATTACH;FMTTYPE=image/jpeg:https://octubre.cat/www/wp-content/uploads/2020/07/activitat2141.jpg
END:VEVENT
END:VCALENDAR