BEGIN:VCALENDAR
VERSION:2.0
PRODID:-//Octubre Centre de Cultura Contemporània - ECPv5.1.6//NONSGML v1.0//EN
CALSCALE:GREGORIAN
METHOD:PUBLISH
X-WR-CALNAME:Octubre Centre de Cultura Contemporània
X-ORIGINAL-URL:https://octubre.cat
X-WR-CALDESC:Events for Octubre Centre de Cultura Contemporània
BEGIN:VTIMEZONE
TZID:Europe/Andorra
BEGIN:DAYLIGHT
TZOFFSETFROM:+0100
TZOFFSETTO:+0200
TZNAME:CEST
DTSTART:20200329T010000
END:DAYLIGHT
BEGIN:STANDARD
TZOFFSETFROM:+0200
TZOFFSETTO:+0100
TZNAME:CET
DTSTART:20201025T010000
END:STANDARD
END:VTIMEZONE
BEGIN:VEVENT
DTSTART;TZID=Europe/Andorra:20201015T190000
DTEND;TZID=Europe/Andorra:20201015T190000
DTSTAMP:20260421T161927
CREATED:20200927T084013Z
LAST-MODIFIED:20201009T100751Z
UID:15207-1602788400-1602788400@octubre.cat
SUMMARY:Videocreació: Mercedes Gaspar
DESCRIPTION:Mostra Viva del Mediterrani 2020\nVideocreació \nMercedes Gaspar\, 1964\, és aragonesa nascuda a Saragossa\, però sempre ha estat vinculada a Calanda\, Terol\, on ha viscut la seua infància i adolescència\, i d’allí procedeix la major part dels seus avantpassats\, encara que també té arrels a Gotor\, i a Sádaba\, ambdós província de Saragossa.\nHa dirigit teatre\, cinema\, i videoart i escriu poesia i conte. Ha rebut nombrosos premis. Va rebre l’homenatge de la Plataforma de Nous Realitzadors\, a Madrid\, en reconeixement a la seua carrera. S’ha publicat un llibre sobre la seua trajectòria: Mercedes Gaspar una cineasta total\, editat per la SGAE i l’Institut Buñuel\, i escrit per Mercedes Borrás i Alberto Úbeda. Ha rebut l’homenatge de Proyectaragón amb la presentació del llibre\, i l’emissió de dos cicles amb els seus treballs. Ha realitzat la seua primera exposició de fotografia\, estrenada a Madrid\, durant els actes d’homenatge i a Saragossa durant Proyectaragón\, a les sales Camón de Madrid\, i Spectrum Sotos de Saragossa. \n \nPROJECCIONS: \n· Retrato de un Autorretrato literario\, sobre les memòries de Ramón y Cajal\n· Buñuel seres y enseres en caos\, la deconstrucció d’El perro Andaluz de Luis Buñuel\n· El derecho de las patatas\n· Las partes de mí que te aman son seres vacíos \nOrganització: Mostra Viva del Mediterrani amb la col·laboració del Festival Internacional Dona i Cinema i l’Octubre CCCC.
URL:https://octubre.cat/activitat/videocreacio-mercedes-gaspar/
LOCATION:Sala d’actes
CATEGORIES:Mostra Viva 2020,Videoart
ATTACH;FMTTYPE=image/jpeg:https://octubre.cat/www/wp-content/uploads/2020/07/mostra-viva.jpg
END:VEVENT
END:VCALENDAR