BEGIN:VCALENDAR
VERSION:2.0
PRODID:-//Octubre Centre de Cultura Contemporània - ECPv5.1.6//NONSGML v1.0//EN
CALSCALE:GREGORIAN
METHOD:PUBLISH
X-WR-CALNAME:Octubre Centre de Cultura Contemporània
X-ORIGINAL-URL:https://octubre.cat
X-WR-CALDESC:Events for Octubre Centre de Cultura Contemporània
BEGIN:VTIMEZONE
TZID:Europe/Andorra
BEGIN:DAYLIGHT
TZOFFSETFROM:+0100
TZOFFSETTO:+0200
TZNAME:CEST
DTSTART:20070325T010000
END:DAYLIGHT
BEGIN:STANDARD
TZOFFSETFROM:+0200
TZOFFSETTO:+0100
TZNAME:CET
DTSTART:20071028T010000
END:STANDARD
END:VTIMEZONE
BEGIN:VEVENT
DTSTART;TZID=Europe/Andorra:20071003T190000
DTEND;TZID=Europe/Andorra:20071003T190000
DTSTAMP:20260420T205855
CREATED:20200729T172658Z
LAST-MODIFIED:20260106T184644Z
UID:11200-1191438000-1191438000@octubre.cat
SUMMARY:Alberto Fernández: Vida i intel·ligència
DESCRIPTION:Els científics busquen vida i intel·ligència entre els estels\, però què és vida? què és intel·ligència? \nA càrrec d’Alberto Fernández\, Investigador Ramón i Cajal de la Universitat de València\, el seu treball se centra en la cosmologia observacional. Expert en redshifts fotomètrics\, ha publicat més de 25 articles científics en revistes internacionals. Col·laborador habitual de la premsa escrita i forma part de l’equip editorial d’Alfa Centauri\, de la Societat Espanyola d’Astronomia. \n—\nAquesta conferència forma part del cicle “Estem sols a l’univers?” organitzat per l’Espai Ciència de l’Octubre CCC
URL:https://octubre.cat/activitat/vida-i-intelligencia/
LOCATION:No definit
CATEGORIES:Espai Ciència
ATTACH;FMTTYPE=image/jpeg:https://octubre.cat/www/wp-content/uploads/2020/07/espaiciencia1.jpg
END:VEVENT
END:VCALENDAR