BEGIN:VCALENDAR
VERSION:2.0
PRODID:-//Octubre Centre de Cultura Contemporània - ECPv5.1.6//NONSGML v1.0//EN
CALSCALE:GREGORIAN
METHOD:PUBLISH
X-WR-CALNAME:Octubre Centre de Cultura Contemporània
X-ORIGINAL-URL:https://octubre.cat
X-WR-CALDESC:Events for Octubre Centre de Cultura Contemporània
BEGIN:VTIMEZONE
TZID:Europe/Andorra
BEGIN:DAYLIGHT
TZOFFSETFROM:+0100
TZOFFSETTO:+0200
TZNAME:CEST
DTSTART:20110327T010000
END:DAYLIGHT
BEGIN:STANDARD
TZOFFSETFROM:+0200
TZOFFSETTO:+0100
TZNAME:CET
DTSTART:20111030T010000
END:STANDARD
END:VTIMEZONE
BEGIN:VEVENT
DTSTART;TZID=Europe/Andorra:20110209T190000
DTEND;TZID=Europe/Andorra:20110209T190000
DTSTAMP:20260421T054313
CREATED:20200729T165407Z
LAST-MODIFIED:20200730T042717Z
UID:9148-1297278000-1297278000@octubre.cat
SUMMARY:Vida extraterrestre?
DESCRIPTION:Dimecres 9 de febrer\, a les 19.00h: “Vida extraterrestre?”\, bar de ciències amb motiu del dia de Darwin. Amb Ricardo Amils\, Fernando Ballesteros i Juli Peretó. Modera: Núria Cadenes.   \n  \n  \n\nBar de Ciències amb motiu del Dia de Darwin 2011  Pot haver vida en altres indrets del nostre sistema solar? S’han detectat altres planetes habitables? Quins són els límits físics i químics de la vida? Poden haver biologies terrestres encara per descobrir? Què ens diuen els organismes que viuen en ambients molt extrems?  Intervenen:   Ricardo Amils\, microbiòleg especialista en extremòfils\, Centro de Astrobiología\, INTA-CSIC\, Madrid.  Fernando Ballesteros\, astrònom i divulgador científic\, autor de Gramàtiques extraterrestres (Premi de Divulgació Científica Estudi General\, Bromera-PUV)\, Observatori Astronòmic de la Universitat de València.   Juli Peretó\, bioquímic de l’Institut Cavanilles de Biodiversitat i Biologia Evolutiva\, Universitat de València.  Modera: Núria Cadenes\, periodista d’El Temps.  Una iniciativa de l‘Institut Cavanilles de Biodiversitat i Biologia Evolutiva\, la Facultat de Ciències Biològiques\, la Càtedra de Divulgació de la Ciència de la Universitat de València i Acció Cultural del País Valencià.   Amb el patrocini de l’Institut d’Estudis Catalans (IEC)\, la Societat Catalana de Biologia i la CAM.
URL:https://octubre.cat/activitat/vida-extraterrestre/
LOCATION:No definit
CATEGORIES:Espai Ciència
ATTACH;FMTTYPE=image/jpeg:https://octubre.cat/www/wp-content/uploads/2020/07/activitat1371.jpg
END:VEVENT
END:VCALENDAR