BEGIN:VCALENDAR
VERSION:2.0
PRODID:-//Octubre Centre de Cultura Contemporània - ECPv5.1.6//NONSGML v1.0//EN
CALSCALE:GREGORIAN
METHOD:PUBLISH
X-WR-CALNAME:Octubre Centre de Cultura Contemporània
X-ORIGINAL-URL:https://octubre.cat
X-WR-CALDESC:Events for Octubre Centre de Cultura Contemporània
BEGIN:VTIMEZONE
TZID:Europe/Andorra
BEGIN:DAYLIGHT
TZOFFSETFROM:+0100
TZOFFSETTO:+0200
TZNAME:CEST
DTSTART:20140330T010000
END:DAYLIGHT
BEGIN:STANDARD
TZOFFSETFROM:+0200
TZOFFSETTO:+0100
TZNAME:CET
DTSTART:20141026T010000
END:STANDARD
END:VTIMEZONE
BEGIN:VEVENT
DTSTART;TZID=Europe/Andorra:20140514T190000
DTEND;TZID=Europe/Andorra:20140514T190000
DTSTAMP:20260421T024249
CREATED:20200729T170446Z
LAST-MODIFIED:20200730T041130Z
UID:9773-1400094000-1400094000@octubre.cat
SUMMARY:'Vida de família'\, de Llorenç Soler
DESCRIPTION:Dimecres 14 de maig a les 19.00h. Dins del cicle Premis Turia 50 aniversari. Pel·lícula presentada i comentada pels seus guionistes Pedro Uris i Miquel Peidró  \n  \n  \n\n Sessió presentada i comentada pels guionistes Pedro Uris i Miquel Peidró Millor Tv-Movie Valenciana Premis Turia 2009  Sinopsi: Marta manté una relació sentimental amb Vanesa\, molt més jove que ella. La primera es planteja tenir un fill amb la seua parella\, però en el camí per aconseguir-ho tindrà molts problemes. Primerament\, la negativa de la seua núvia\, que no se sent preparada\, i la tensió que aquesta negativa causa en la relació. Després\, i una vegada que ambdues n’estan d’acord\, hauran d’enfrontar-se als prejudicis que la societat té envers la seua orientació sexual i a les traves que sorgeixen a l’hora tant d’adoptar com de sotmetre’s a un procés de fecundació in vitro.  Direcció: Llorenç Soler (2007) Guió: Miquel Peidró i Pedro Uris Protagonistes: Ana Fernández\, Cristina Brondo\, Ricard Sales\, Miquel García-Borda\, Mercedes Sampietro\, Josep Julien\, Fermí Casado\, Isabel Blanco\, Nazaret Jiménez   Organitzat per la Cartellera Turia i l’Octubre CCC amb la col·laboració de l’Acadèmia del Cinema Català Direcció del cicle: Antonio Lloréns
URL:https://octubre.cat/activitat/vida-de-familia-de-llorenc-soler/
LOCATION:Sala d’actes
CATEGORIES:Cicle Premis Turia 50 aniversari
ATTACH;FMTTYPE=image/jpeg:https://octubre.cat/www/wp-content/uploads/2020/07/activitat2072.jpg
END:VEVENT
END:VCALENDAR